BEGIN:VCALENDAR
VERSION:2.0
PRODID:-//Saskatchewan Institute of Agrologists - ECPv6.15.20//NONSGML v1.0//EN
CALSCALE:GREGORIAN
METHOD:PUBLISH
X-WR-CALNAME:Saskatchewan Institute of Agrologists
X-ORIGINAL-URL:https://sia.sk.ca
X-WR-CALDESC:Events for Saskatchewan Institute of Agrologists
REFRESH-INTERVAL;VALUE=DURATION:PT1H
X-Robots-Tag:noindex
X-PUBLISHED-TTL:PT1H
BEGIN:VTIMEZONE
TZID:America/Regina
BEGIN:STANDARD
TZOFFSETFROM:-0600
TZOFFSETTO:-0600
TZNAME:CST
DTSTART:20240101T000000
END:STANDARD
END:VTIMEZONE
BEGIN:VEVENT
DTSTART;TZID=America/Regina:20250114T100000
DTEND;TZID=America/Regina:20250224T160000
DTSTAMP:20260419T154236
CREATED:20241204T185449Z
LAST-MODIFIED:20241204T185449Z
UID:238100-1736848800-1740412800@sia.sk.ca
SUMMARY:Rotational Grazing Workshop
DESCRIPTION:Learn to create a grazing plan for your ranch! Funding is available to design and implement a rotational grazing plan\, pasture composition\, fencing and off-site watering systems. \nDate: Jan 14th\, 2025\nTime: 10:am – 4:00pm\nLocation: Elks Hall\, Maple Creek\, SK\nCost: $20.00/person Lunch Included \nTopics include:\n– Funding for ag producers\n– Riparian area funding for protecting species at risk\n– Saskatchewan MOA funding\n– VBP+\n– Producer Panel\n– Build your own rotational grazing plan \nRegister \n 
URL:https://sia.sk.ca/event-calendar/rotational-grazing-workshop/
END:VEVENT
BEGIN:VEVENT
DTSTART;VALUE=DATE:20250206
DTEND;VALUE=DATE:20250207
DTSTAMP:20260419T154236
CREATED:20250113T222822Z
LAST-MODIFIED:20250113T222822Z
UID:238165-1738800000-1738886399@sia.sk.ca
SUMMARY:Sask Young Ag (SYA) - Annual Conference & AGM
DESCRIPTION:SYA Proudly Ag Conference & AGM\nDate: February 6th\, 2025\nLocation: Holiday Inn Express & Suites Saskatoon East\n1838 College Dr Bldg# 2\, Saskatoon\, SK S7N 2Z8\nRegistration: 
URL:https://sia.sk.ca/event-calendar/sask-young-ag-sya-annual-conference-agm/
END:VEVENT
BEGIN:VEVENT
DTSTART;TZID=America/Regina:20250206T100000
DTEND;TZID=America/Regina:20250206T153000
DTSTAMP:20260419T154236
CREATED:20241211T225704Z
LAST-MODIFIED:20241211T225704Z
UID:238111-1738836000-1738855800@sia.sk.ca
SUMMARY:Regina Winter Pulse Meeting
DESCRIPTION:Regina Winter Pulse Meeting \nThursday Feb 6\, 2024 \n10am – 3:30pm CST \nIn Person Registration:
URL:https://sia.sk.ca/event-calendar/regina-winter-pulse-meeting/
END:VEVENT
END:VCALENDAR