BEGIN:VCALENDAR
VERSION:2.0
PRODID:-//Saskatchewan Institute of Agrologists - ECPv6.15.20//NONSGML v1.0//EN
CALSCALE:GREGORIAN
METHOD:PUBLISH
X-ORIGINAL-URL:https://sia.sk.ca
X-WR-CALDESC:Events for Saskatchewan Institute of Agrologists
REFRESH-INTERVAL;VALUE=DURATION:PT1H
X-Robots-Tag:noindex
X-PUBLISHED-TTL:PT1H
BEGIN:VTIMEZONE
TZID:America/Regina
BEGIN:STANDARD
TZOFFSETFROM:-0600
TZOFFSETTO:-0600
TZNAME:CST
DTSTART:20240101T000000
END:STANDARD
END:VTIMEZONE
BEGIN:VEVENT
DTSTART;TZID=America/Regina:20250114T100000
DTEND;TZID=America/Regina:20250224T160000
DTSTAMP:20260419T154516
CREATED:20241204T185449Z
LAST-MODIFIED:20241204T185449Z
UID:238100-1736848800-1740412800@sia.sk.ca
SUMMARY:Rotational Grazing Workshop
DESCRIPTION:Learn to create a grazing plan for your ranch! Funding is available to design and implement a rotational grazing plan\, pasture composition\, fencing and off-site watering systems. \nDate: Jan 14th\, 2025\nTime: 10:am – 4:00pm\nLocation: Elks Hall\, Maple Creek\, SK\nCost: $20.00/person Lunch Included \nTopics include:\n– Funding for ag producers\n– Riparian area funding for protecting species at risk\n– Saskatchewan MOA funding\n– VBP+\n– Producer Panel\n– Build your own rotational grazing plan \nRegister \n 
URL:https://sia.sk.ca/event-calendar/rotational-grazing-workshop/
END:VEVENT
BEGIN:VEVENT
DTSTART;TZID=America/Regina:20250211T090000
DTEND;TZID=America/Regina:20250213T200000
DTSTAMP:20260419T154516
CREATED:20240923T183639Z
LAST-MODIFIED:20241223T180221Z
UID:237948-1739264400-1739476800@sia.sk.ca
SUMMARY:11th Native Prairie Restoration/Reclamation Workshop and Prairie Fire Summit
DESCRIPTION:Saskatchewan Prairie Conservation Action Plan is hosting the 11th Native Prairie Restoration/Reclamation Workshop (NPRRW) and the Prairie Fire Summit \n             Date: Feb 11th and 13th\, 2025\n             Location: Atlas Hotel\, Regina\, SK \nFor more information about NPRRW or the Prairie Fire Summit\, or to Register : \n 
URL:https://sia.sk.ca/event-calendar/prairie-fire-summit-2025-11th-native-prairie-restoration-reclamation-workshop/
END:VEVENT
BEGIN:VEVENT
DTSTART;TZID=America/Regina:20250212T090000
DTEND;TZID=America/Regina:20250213T170000
DTSTAMP:20260419T154516
CREATED:20241125T154816Z
LAST-MODIFIED:20241125T154816Z
UID:238075-1739350800-1739466000@sia.sk.ca
SUMMARY:11th Native Prairie Restoration/Reclamation Workshop
DESCRIPTION:Saskatchewan Prairie Conservation Action Plan (SK PCAP) is hosting the 11th Native Prairie Restoration/Reclamation Workshop. \nDate: February 12-13\, 2025\nLocation: Atlas Hotel in Regina\, SK.\nTheme: “Collaborative Approaches to Prairie Conservation” \nThe workshop will include oral presentations\, case studies\, panel discussions\, tradeshow and poster session. \nCALL FOR POSTER ABSTRACTS IS OPENED! Deadline: December 6th\, 2024 at 5:00pm \nAttendance of approximately 250 participants is expected\, including government\, environmental non-profit organizations\, industry\, research and academic institutions\, environmental consultants\, land managers\, agriculture and more. \nPotential poster topics include: Invasive species\, Soil\, Restoration outcomes and monitoring\, New technology\, Industry\, Building relationships with Indigenous communities\, Land Manager Perspectives\, Skills Development AND MORE! \nMore Information: https://www.pcap-sk.org/upcoming-events/native-prairie-restorationreclamation-workshop-2025 \nSubmit a Poster Abstract: https://form.jotform.com/242356097916263
URL:https://sia.sk.ca/event-calendar/11th-native-prairie-restoration-reclamation-workshop/
END:VEVENT
END:VCALENDAR