BEGIN:VCALENDAR
VERSION:2.0
PRODID:-//Saskatchewan Institute of Agrologists - ECPv6.15.20//NONSGML v1.0//EN
CALSCALE:GREGORIAN
METHOD:PUBLISH
X-ORIGINAL-URL:https://sia.sk.ca
X-WR-CALDESC:Events for Saskatchewan Institute of Agrologists
REFRESH-INTERVAL;VALUE=DURATION:PT1H
X-Robots-Tag:noindex
X-PUBLISHED-TTL:PT1H
BEGIN:VTIMEZONE
TZID:America/Regina
BEGIN:STANDARD
TZOFFSETFROM:-0600
TZOFFSETTO:-0600
TZNAME:CST
DTSTART:20240101T000000
END:STANDARD
END:VTIMEZONE
BEGIN:VEVENT
DTSTART;TZID=America/Regina:20250114T100000
DTEND;TZID=America/Regina:20250224T160000
DTSTAMP:20260419T154435
CREATED:20241204T185449Z
LAST-MODIFIED:20241204T185449Z
UID:238100-1736848800-1740412800@sia.sk.ca
SUMMARY:Rotational Grazing Workshop
DESCRIPTION:Learn to create a grazing plan for your ranch! Funding is available to design and implement a rotational grazing plan\, pasture composition\, fencing and off-site watering systems. \nDate: Jan 14th\, 2025\nTime: 10:am – 4:00pm\nLocation: Elks Hall\, Maple Creek\, SK\nCost: $20.00/person Lunch Included \nTopics include:\n– Funding for ag producers\n– Riparian area funding for protecting species at risk\n– Saskatchewan MOA funding\n– VBP+\n– Producer Panel\n– Build your own rotational grazing plan \nRegister \n 
URL:https://sia.sk.ca/event-calendar/rotational-grazing-workshop/
END:VEVENT
BEGIN:VEVENT
DTSTART;TZID=America/Regina:20250220T120000
DTEND;TZID=America/Regina:20250220T130000
DTSTAMP:20260419T154435
CREATED:20241216T201151Z
LAST-MODIFIED:20241216T201213Z
UID:238117-1740052800-1740056400@sia.sk.ca
SUMMARY:Invasive Species Webinar Series: Leafy Spurge
DESCRIPTION:February 20th 12-1 PM: Invasive Species Webinar Series – Leafy Spurge \nThe first session of the invasive species webinar series focusing on problem rangeland weeds\, this webinar is featuring Leafy Spurge. The webinar is scheduled for 40 minutes with a question period to follow. Topics include information on invasive weeds\, various control options\, and S-CAP funding opportunities to help producers manage these weeds. \nRegister:https://attendee.gotowebinar.com/register/7500545511734690399
URL:https://sia.sk.ca/event-calendar/invasive-species-webinar-series-leaft-spurge/
LOCATION:Online Webinar
END:VEVENT
END:VCALENDAR