BEGIN:VCALENDAR
VERSION:2.0
PRODID:-//Saskatchewan Institute of Agrologists - ECPv6.15.20//NONSGML v1.0//EN
CALSCALE:GREGORIAN
METHOD:PUBLISH
X-WR-CALNAME:Saskatchewan Institute of Agrologists
X-ORIGINAL-URL:https://sia.sk.ca
X-WR-CALDESC:Events for Saskatchewan Institute of Agrologists
REFRESH-INTERVAL;VALUE=DURATION:PT1H
X-Robots-Tag:noindex
X-PUBLISHED-TTL:PT1H
BEGIN:VTIMEZONE
TZID:America/Regina
BEGIN:STANDARD
TZOFFSETFROM:-0600
TZOFFSETTO:-0600
TZNAME:CST
DTSTART:20240101T000000
END:STANDARD
END:VTIMEZONE
BEGIN:VEVENT
DTSTART;TZID=America/Regina:20250227T083000
DTEND;TZID=America/Regina:20250227T160000
DTSTAMP:20260419T172423
CREATED:20250115T165815Z
LAST-MODIFIED:20250115T165815Z
UID:238170-1740645000-1740672000@sia.sk.ca
SUMMARY:Crop Opp 2025
DESCRIPTION:Registrations are now being accepted for Crop Opp 2025\nThursday\, February 27th\nat the Western Development Museum\nNorth Battleford\n8:30 am – 4:00 pm   \n\n\n\n\n\n\n\n\n\n\n\n\n\n\n\n\n\n\n\n\n\n\n\n\n\n\n\n\n\n\n\n\n\n\n\n\n\n\n\n\n\n\n\n\n\n\n\n\nWe are once again offering a fully hybrid event this year with Encore Saskatoon as our audio visual technology provider.  You have the option to attend in person or virtually by Zoom. \nClick on the link below to register in person:\nhttps://www.eventbrite.com/e/crop-opportunity-2025-in-person-tickets-1145932919209?aff=oddtdtcreator \nOR you can click on the link below to register virtually:\nhttps://www.eventbrite.com/e/crop-opportunity-2025-virtual-registration-tickets-1145926399709?aff=oddtdtcreator \nOnce the agenda is finalized\, it will be posted on WARC’s social media and emailed as well.
URL:https://sia.sk.ca/event-calendar/crop-opp-2025/
END:VEVENT
BEGIN:VEVENT
DTSTART;TZID=America/Regina:20250227T113000
DTEND;TZID=America/Regina:20250227T133000
DTSTAMP:20260419T172423
CREATED:20241216T202409Z
LAST-MODIFIED:20241217T144615Z
UID:238124-1740655800-1740663000@sia.sk.ca
SUMMARY:QP Learning Sessions - 2025
DESCRIPTION:Free Learning Session \nAre you looking to feel more confident in your qualified persons (QP) submissions to the Ministry of Environment? Join us for a free learning session designed specifically for QPs like you. \nThe Ministry of Environment will be hosting three information sessions for QPs under divisions B and E of the Saskatchewan Environmental Code. \nImpacted Sites\n11:30 a.m. to 1:30 p.m. Thursday\, February 27\n· What’s New\n· Results Based Regulatory Framework\n· Impacted Sites Briefing \nWaste Management\n11:30 a.m. to 1:30 p.m. Thursday\, April 10\n· What’s New\n· Results Based Regulatory Framework\n· Compost Code Chapter Briefing \nIndustrial Source Air Quality Environmental Protection Plans\n11:30 a.m. to 1:30 p.m.\nThursday\, May 8\n· What’s New\n· Results Based Regulatory Framework\n· Air Quality Environmental Protection Plan Briefing \nOnce registered\, you will receive a meeting invite for the Impacted Sites session at a later date. The session is free of charge. Information on registering for our Waste Management and Air Quality sessions will be provided as their dates approach. \nIf you have any questions\, please email EPB.Admin@gov.sk.ca or phone 306-787-6189.\nPresentations will be recorded and posted on saskatchewan.ca.
URL:https://sia.sk.ca/event-calendar/qp-learning-sessions-february-27-2025/
LOCATION:Online Webinar
END:VEVENT
BEGIN:VEVENT
DTSTART;TZID=America/Regina:20250227T120000
DTEND;TZID=America/Regina:20250227T130000
DTSTAMP:20260419T172423
CREATED:20241216T202024Z
LAST-MODIFIED:20241216T202024Z
UID:238122-1740657600-1740661200@sia.sk.ca
SUMMARY:Invasive Species Webinar Series - Common Tansy
DESCRIPTION:February 27th 12-1 PM: Invasive Species Webinar Series – Common Tansy \nThe final session of the invasive species webinar series focusing on problem rangeland weeds\, this webinar is featuring Common Tansy. The webinar is scheduled for 30 minutes with a question period to follow. Topics include information on invasive weeds\, various control options\, and S-CAP funding opportunities to help producers manage these weeds. \nRegister: https://attendee.gotowebinar.com/register/2499578500985269848
URL:https://sia.sk.ca/event-calendar/invasive-species-webinar-series-common-tansy/
END:VEVENT
END:VCALENDAR