BEGIN:VCALENDAR
VERSION:2.0
PRODID:-//Saskatchewan Institute of Agrologists - ECPv6.15.20//NONSGML v1.0//EN
CALSCALE:GREGORIAN
METHOD:PUBLISH
X-ORIGINAL-URL:https://sia.sk.ca
X-WR-CALDESC:Events for Saskatchewan Institute of Agrologists
REFRESH-INTERVAL;VALUE=DURATION:PT1H
X-Robots-Tag:noindex
X-PUBLISHED-TTL:PT1H
BEGIN:VTIMEZONE
TZID:America/Regina
BEGIN:STANDARD
TZOFFSETFROM:-0600
TZOFFSETTO:-0600
TZNAME:CST
DTSTART:20240101T000000
END:STANDARD
END:VTIMEZONE
BEGIN:VEVENT
DTSTART;TZID=America/Regina:20250304T090000
DTEND;TZID=America/Regina:20250305T170000
DTSTAMP:20260419T172834
CREATED:20250107T163111Z
LAST-MODIFIED:20250107T163111Z
UID:238144-1741078800-1741194000@sia.sk.ca
SUMMARY:Soils and Crops 2025
DESCRIPTION:Soils and Crops 2025\nDates: March 4-5\, 2025 \nLocation: Hall A\, Prairieland Park\, 503 Ruth Street W\, Saskatoon\, SK \nMore Information: 
URL:https://sia.sk.ca/event-calendar/soils-and-crops-2025/
END:VEVENT
END:VCALENDAR