BEGIN:VCALENDAR
VERSION:2.0
PRODID:-//Saskatchewan Institute of Agrologists - ECPv6.15.20//NONSGML v1.0//EN
CALSCALE:GREGORIAN
METHOD:PUBLISH
X-WR-CALNAME:Saskatchewan Institute of Agrologists
X-ORIGINAL-URL:https://sia.sk.ca
X-WR-CALDESC:Events for Saskatchewan Institute of Agrologists
REFRESH-INTERVAL;VALUE=DURATION:PT1H
X-Robots-Tag:noindex
X-PUBLISHED-TTL:PT1H
BEGIN:VTIMEZONE
TZID:America/Regina
BEGIN:STANDARD
TZOFFSETFROM:-0600
TZOFFSETTO:-0600
TZNAME:CST
DTSTART:20240101T000000
END:STANDARD
END:VTIMEZONE
BEGIN:VEVENT
DTSTART;TZID=America/Regina:20250325T080000
DTEND;TZID=America/Regina:20250325T170000
DTSTAMP:20260419T190341
CREATED:20250325T193430Z
LAST-MODIFIED:20250325T193430Z
UID:238841-1742889600-1742922000@sia.sk.ca
SUMMARY:SIA Orientation to Agrology Workshop
DESCRIPTION:PLEASE NOTE: Only licensed agrologists qualify to participate in the workshop. Applications sent in do not count as licensed\, please wait to register! \nDate: Tuesday\, April 15\, 2025 \nTime: 8:30 am to 3:00 pm \nLocation: Online Webinar \nCost: $208.95 (includes GST) Note: Price does not include processing fees. \nRegistration Deadline: Sunday\, April 13\, 2025 \nMaximum – 10 participants \nWebinar Requirements – MUST CONNECT WITH AUDIO & VIDEO \nNOTE: The meeting link\, ID and password will be sent to you via email. \nRegistration: 
URL:https://sia.sk.ca/event-calendar/sia-orientation-to-agrology-workshop-6/
END:VEVENT
BEGIN:VEVENT
DTSTART;TZID=America/Regina:20250325T170000
DTEND;TZID=America/Regina:20250325T193000
DTSTAMP:20260419T190341
CREATED:20250312T173852Z
LAST-MODIFIED:20250312T173852Z
UID:238781-1742922000-1742931000@sia.sk.ca
SUMMARY:SIA Yorkton Branch AGM with guest speaker
DESCRIPTION:Join the SIA Yorkton Branch for the 2025 AGM with guest speaker\, Derek Wilfing\, from Koch Agronomic Services \nDate: Tuesday\, March 25\, 2025. \nTime: 5:00 pm Meal\nMeeting and presentation to follow \nCost: $15.00 per person\nRegistration deadline March 22\, 2025 \nLocation: Suncrest College\nRoom 109\n200 Prystai Way\, Yorkton Sk \nPresentation Topic: Mitigating Nitrogen Losses \nThis activity counts as a Branch AGM for articling milestones. \nBranch Executive Positions available\nPresident Elect\nSecretary \nRegister Here:
URL:https://sia.sk.ca/event-calendar/sia-yorkton-branch-agm-with-guest-speaker/
END:VEVENT
END:VCALENDAR