BEGIN:VCALENDAR
VERSION:2.0
PRODID:-//Saskatchewan Institute of Agrologists - ECPv6.15.20//NONSGML v1.0//EN
CALSCALE:GREGORIAN
METHOD:PUBLISH
X-WR-CALNAME:Saskatchewan Institute of Agrologists
X-ORIGINAL-URL:https://sia.sk.ca
X-WR-CALDESC:Events for Saskatchewan Institute of Agrologists
REFRESH-INTERVAL;VALUE=DURATION:PT1H
X-Robots-Tag:noindex
X-PUBLISHED-TTL:PT1H
BEGIN:VTIMEZONE
TZID:America/Regina
BEGIN:STANDARD
TZOFFSETFROM:-0600
TZOFFSETTO:-0600
TZNAME:CST
DTSTART:20240101T000000
END:STANDARD
END:VTIMEZONE
BEGIN:VEVENT
DTSTART;TZID=America/Regina:20250401T153000
DTEND;TZID=America/Regina:20250401T170000
DTSTAMP:20260419T172514
CREATED:20250331T164805Z
LAST-MODIFIED:20250331T164805Z
UID:238858-1743521400-1743526800@sia.sk.ca
SUMMARY:Pathways to sustainability: Agricultural research in a changing climate seminar
DESCRIPTION:Please join the College of Agriculture and Bioresources tomorrow for the next seminar in our Spring research seminar series Pathways to sustainability: Agricultural research in a changing climate.\n \nComprehensive approaches and ecological considerations for insect\, pest and vector management\nBy Dr. Sean Prager\, Associate Professor of Entomology\n\nDate: April 1\, 2025\nLocation: Online\n \nPresentations are all online via Zoom and everyone is welcome to attend. Find more information and register for some or all of the seminars by visiting the website here!
URL:https://sia.sk.ca/event-calendar/pathways-to-sustainability-agricultural-research-in-a-changing-climate-seminar/
LOCATION:Online Course
END:VEVENT
BEGIN:VEVENT
DTSTART;TZID=America/Regina:20250401T173000
DTEND;TZID=America/Regina:20250401T203000
DTSTAMP:20260419T172514
CREATED:20250312T175551Z
LAST-MODIFIED:20250312T175551Z
UID:238786-1743528600-1743539400@sia.sk.ca
SUMMARY:SIA NE Branch AGM with guest speaker
DESCRIPTION:Join the SIA NE Branch for the 2025 AGM \nDate: Tuesday\, April 1\, 2025 \nTime: 5:30 pm \nPresentation: by Chance Rothwell on “Cover Crops”. \nLocation: Kerry Vickar Center – Affinity Credit Union Meeting Room\n206 Bemister Ave E\, Melfort SK \nTime: 5:30 pm Registration\n6:00 pm Meal\nPresentation and AGM to follow \nCost: $15.00 per person\nRegistration Deadline: March 25\, 2025\nRegistration Capacity 30 \nBranch Executive Positions Available:\nDirector of Education & Articling (1 year term)\nDirector (2) – (2-year term) \nThis activity qualifies as a Branch AGM articling milestone \nRegister here; 
URL:https://sia.sk.ca/event-calendar/sia-ne-branch-agm-with-guest-speaker/
END:VEVENT
END:VCALENDAR