BEGIN:VCALENDAR
VERSION:2.0
PRODID:-//Saskatchewan Institute of Agrologists - ECPv6.15.20//NONSGML v1.0//EN
CALSCALE:GREGORIAN
METHOD:PUBLISH
X-ORIGINAL-URL:https://sia.sk.ca
X-WR-CALDESC:Events for Saskatchewan Institute of Agrologists
REFRESH-INTERVAL;VALUE=DURATION:PT1H
X-Robots-Tag:noindex
X-PUBLISHED-TTL:PT1H
BEGIN:VTIMEZONE
TZID:America/Regina
BEGIN:STANDARD
TZOFFSETFROM:-0600
TZOFFSETTO:-0600
TZNAME:CST
DTSTART:20240101T000000
END:STANDARD
END:VTIMEZONE
BEGIN:VEVENT
DTSTART;TZID=America/Regina:20250403T130000
DTEND;TZID=America/Regina:20250410T160000
DTSTAMP:20260419T205225
CREATED:20250327T192806Z
LAST-MODIFIED:20250327T192806Z
UID:238855-1743685200-1744300800@sia.sk.ca
SUMMARY:Building a Resilient Farm Business
DESCRIPTION:Live! Thursday\, April 3 at 1 p.m. EDT \nBuilding a resilient farm business means having the right strategies and tools to manage risk and adapt to changing conditions. Join us for an engaging webinar featuring Heather Watson of Farm Management Canada\, Stephanie Maynard & Phil Quinn of Quinn Farms\, and Alex Pulwicki of Young Agrarians as they will discuss practical strategies\, real-world examples\, and valuable resources available to help farmers strengthen their operations and secure long-term success. \nDon’t miss this opportunity to gain valuable knowledge and connect with experts dedicated to helping farms thrive. Register today! \nRegister:  \nTime Zones \n10 a.m. PDT | 11 a.m. MDT | 11:00 a.m. CST | 12 p.m. CDT | 1 p.m. EDT | 2 p.m. ADT | 2:30 p.m. NDT
URL:https://sia.sk.ca/event-calendar/building-a-resilient-farm-business/
END:VEVENT
END:VCALENDAR