BEGIN:VCALENDAR
VERSION:2.0
PRODID:-//Saskatchewan Institute of Agrologists - ECPv6.15.20//NONSGML v1.0//EN
CALSCALE:GREGORIAN
METHOD:PUBLISH
X-WR-CALNAME:Saskatchewan Institute of Agrologists
X-ORIGINAL-URL:https://sia.sk.ca
X-WR-CALDESC:Events for Saskatchewan Institute of Agrologists
REFRESH-INTERVAL;VALUE=DURATION:PT1H
X-Robots-Tag:noindex
X-PUBLISHED-TTL:PT1H
BEGIN:VTIMEZONE
TZID:America/Regina
BEGIN:STANDARD
TZOFFSETFROM:-0600
TZOFFSETTO:-0600
TZNAME:CST
DTSTART:20240101T000000
END:STANDARD
END:VTIMEZONE
BEGIN:VEVENT
DTSTART;TZID=America/Regina:20250415T083000
DTEND;TZID=America/Regina:20250415T150000
DTSTAMP:20260419T205137
CREATED:20250326T200014Z
LAST-MODIFIED:20250326T201021Z
UID:238853-1744705800-1744729200@sia.sk.ca
SUMMARY:SIA Orientation to Agrology Workshop
DESCRIPTION:PLEASE NOTE: Only licensed agrologists qualify to participate in the workshop. Applications sent in do not count as licensed\, please wait to register! \nDate: Tuesday\, April 15\, 2025 \nTime: 8:30 am to 3:00 pm \nLocation: Online Webinar \nCost: $208.95 (includes GST) Note: Price does not include processing fees. \nRegistration Deadline: Sunday\, April 13\, 2025 \nMaximum – 10 participants \nWebinar Requirements – MUST CONNECT WITH AUDIO & VIDEO \nNOTE: The meeting link\, ID and password will be sent to you via email. \nRegistration: 
URL:https://sia.sk.ca/event-calendar/sia-orientation-to-agrology-workshop-7/
END:VEVENT
BEGIN:VEVENT
DTSTART;TZID=America/Regina:20250415T120000
DTEND;TZID=America/Regina:20250415T130000
DTSTAMP:20260419T205137
CREATED:20250318T203241Z
LAST-MODIFIED:20250318T203241Z
UID:238799-1744718400-1744722000@sia.sk.ca
SUMMARY:Brush Management on the Prairies
DESCRIPTION:Trevor Lennox and Andre Bonneau with the Saskatchewan Ministry of Agriculture will review findings of various brush management projects conducted over the last few years. \nDate: Tuesday April 15\, 2025 \nTime: 12:00 TO 1:00 pm. \nRegistration:  \nRegistration Deadline:  Friday\, Apr. 11\, 2025
URL:https://sia.sk.ca/event-calendar/brush-management-on-the-prairies/
END:VEVENT
END:VCALENDAR