BEGIN:VCALENDAR
VERSION:2.0
PRODID:-//Saskatchewan Institute of Agrologists - ECPv6.15.20//NONSGML v1.0//EN
CALSCALE:GREGORIAN
METHOD:PUBLISH
X-WR-CALNAME:Saskatchewan Institute of Agrologists
X-ORIGINAL-URL:https://sia.sk.ca
X-WR-CALDESC:Events for Saskatchewan Institute of Agrologists
REFRESH-INTERVAL;VALUE=DURATION:PT1H
X-Robots-Tag:noindex
X-PUBLISHED-TTL:PT1H
BEGIN:VTIMEZONE
TZID:America/Regina
BEGIN:STANDARD
TZOFFSETFROM:-0600
TZOFFSETTO:-0600
TZNAME:CST
DTSTART:20240101T000000
END:STANDARD
END:VTIMEZONE
BEGIN:VEVENT
DTSTART;TZID=America/Regina:20250430T130000
DTEND;TZID=America/Regina:20250430T163000
DTSTAMP:20260419T194548
CREATED:20250409T165015Z
LAST-MODIFIED:20250409T165148Z
UID:238912-1746018000-1746030600@sia.sk.ca
SUMMARY:SIA SW Branch Activity - Southern Saskatchewan Plant Identification
DESCRIPTION:Join the SIA SW Branch for an afternoon of native plant and non-native weed identification. This event will include presentations on native grasses and forbs\, rare species\, prohibited and noxious weeds\, weeds in annual cropland\, and the opportunity to network with local agrologists and experts in the region. \nEvent Date: April 30th \nEvent Start Time: 1 PM \nLocation: 101-350 Cheadle St W Swift Current \nRegistration deadline: April 29th \nMaximum capacity 18 \nGuest Speakers:\nAlanna Jonson\, PAg\, Agri-Environmental Specialist\, Saskatchewan Agriculture\, Mark Claxton AAg\, Land Management Specialist\, Saskatchewan Agriculture\, Beth Dolmage PAg\, Species at Risk Botanist\, Ministry of Environment\, Betty Johnson AAg\, Plant Health Technologist\, SARM and\, Shannon Chant PAg\, Crop Extension Specialist\, Saskatchewan Agriculture. \nThis activity counts as a branch activity for articling milestones and as CPD. \n  \nRegistration: 
URL:https://sia.sk.ca/event-calendar/sia-sw-branch-activity-southern-saskatchewan-plant-identification/
END:VEVENT
END:VCALENDAR