BEGIN:VCALENDAR
VERSION:2.0
PRODID:-//Saskatchewan Institute of Agrologists - ECPv6.15.20//NONSGML v1.0//EN
CALSCALE:GREGORIAN
METHOD:PUBLISH
X-WR-CALNAME:Saskatchewan Institute of Agrologists
X-ORIGINAL-URL:https://sia.sk.ca
X-WR-CALDESC:Events for Saskatchewan Institute of Agrologists
REFRESH-INTERVAL;VALUE=DURATION:PT1H
X-Robots-Tag:noindex
X-PUBLISHED-TTL:PT1H
BEGIN:VTIMEZONE
TZID:America/Regina
BEGIN:STANDARD
TZOFFSETFROM:-0600
TZOFFSETTO:-0600
TZNAME:CST
DTSTART:20240101T000000
END:STANDARD
END:VTIMEZONE
BEGIN:VEVENT
DTSTART;TZID=America/Regina:20250515T153000
DTEND;TZID=America/Regina:20250515T170000
DTSTAMP:20260419T194549
CREATED:20250417T143016Z
LAST-MODIFIED:20250425T142909Z
UID:238948-1747323000-1747328400@sia.sk.ca
SUMMARY:SIA Saskatoon Branch Event: Tour of the Agbio Phytotron Facilities
DESCRIPTION:Join the SIA Saskatoon Branch on May 15\, 2025\, at 3:30 pm for a behind-the-scenes tour of the Controlled Environment Facility (Phytotron) at the USask College of Agriculture and Bioresources.\n\n\n\n\n\n\n\n\nManager of the facility\, Adam Harrison\, will provide an introduction of the facility. Following this introduction Alejandra Oviedo-Ludena and her colleagues will show us examples of their research\, including work on Pasmo in flax\, resistance to strip rust with speed breeding\, and determining resistance in cereals to Fusarium Head Blight. \nWhen: May 15\, 2025 \nTime: 3:30 pm to 5:00 pm \nCost: No Charge \nRegistration deadline is May 13\, 2025 \nCapacity is 15 \nIf you are coming to the event from and you have been exposed to any field crops\, we kindly ask that you bring a change of clothes or clean lab coat for biosecurity purposes. \nThis activity counts as a Branch Activity for Articling Milestones and as CPD. \n\n  \n\n\n\n\nRegistration: 
URL:https://sia.sk.ca/event-calendar/saskatoon-branch-event-tour-of-the-agbio-phytotron-facilities/
END:VEVENT
END:VCALENDAR