BEGIN:VCALENDAR
VERSION:2.0
PRODID:-//Saskatchewan Institute of Agrologists - ECPv6.15.20//NONSGML v1.0//EN
CALSCALE:GREGORIAN
METHOD:PUBLISH
X-ORIGINAL-URL:https://sia.sk.ca
X-WR-CALDESC:Events for Saskatchewan Institute of Agrologists
REFRESH-INTERVAL;VALUE=DURATION:PT1H
X-Robots-Tag:noindex
X-PUBLISHED-TTL:PT1H
BEGIN:VTIMEZONE
TZID:America/Regina
BEGIN:STANDARD
TZOFFSETFROM:-0600
TZOFFSETTO:-0600
TZNAME:CST
DTSTART:20240101T000000
END:STANDARD
END:VTIMEZONE
BEGIN:VEVENT
DTSTART;TZID=America/Regina:20250715T083000
DTEND;TZID=America/Regina:20250717T163000
DTSTAMP:20260419T163013
CREATED:20250609T221226Z
LAST-MODIFIED:20250609T221226Z
UID:239105-1752568200-1752769800@sia.sk.ca
SUMMARY:Ag in Motion - Western Canada's Outdoor Farm Expo
DESCRIPTION:Ag in Motion \nDate: July 15th – 17th\, 2025\nTime: 8:30 – 4:30 pm each day \nCost: \n\nAdults: $25 per person per day\nChildren 12 and Under: FREE\nParking: FREE\n\nTickets: 
URL:https://sia.sk.ca/event-calendar/ag-in-motion-western-canadas-outdoor-farm-expo/
END:VEVENT
BEGIN:VEVENT
DTSTART;TZID=America/Regina:20250715T090000
DTEND;TZID=America/Regina:20250715T170000
DTSTAMP:20260419T163013
CREATED:20250609T212959Z
LAST-MODIFIED:20250609T212959Z
UID:239099-1752570000-1752598800@sia.sk.ca
SUMMARY:Indian Head Crop Management Field Day
DESCRIPTION:Indian Head Crop Management Field Day \nDate: Tuesday July 15\, 2025\nTime: 9:00am – 5:00pm\nLocation: Bell Barn\, Indian Head\, SK\nCost: $25.00 (lunch and supper included) \nPre-registration requested (registration form link below) \n\n\n\nWe invite you to come on out for our 2025 Indian Head Crop Management Field Day! The day will be spent in the field showcasing IHARF and AAFC studies looking at: \n\nFertilizer forms and biological inoculants for enhanced phosphorus uptake in flax\n4R nitrogen management in barley\nEffects of seeding dates on new and niche flax varieties\nHumic acids and nitrogen stabilizers for UAN in barley\nCanola response to side-banded enhanced efficiency nitrogen forms and blends\nNitrogen management in oat for protein\, lodging\, and test weight\nOptimum nitrogen and seeding rates for composite yellow mustard\nNitrogen rate response of newly available oat milling varieties\nPotash replacements for chlorine uptake in canola\nPGR products and mixes for barley\nCanola response to in-furrow versus foliar micronutrient fertilizer applications\nEnhanced barley variety trials\nPGRs by nitrogen management strategy in wheat\nSide-banded enhanced efficiency nitrogen products and rates in wheat\nImproving wheat standability without PGRs\nWinter cereal response to seed-applied fungicide\nCorn and soybean in Saskatchewan crop rotations\nCamelina / lentil intercropping\nChickpea / flax intercropping\nBiochar applications in wheat & canola\nWeed control in pulse crops\nStubble height management in hemp\nLong term crop rotations\n\n\n\n\n\n\n\nCCA CEU’s pending \n\n\n\nRegistration: 
URL:https://sia.sk.ca/event-calendar/indian-head-crop-management-field-day/
END:VEVENT
END:VCALENDAR