BEGIN:VCALENDAR
VERSION:2.0
PRODID:-//Saskatchewan Institute of Agrologists - ECPv6.15.20//NONSGML v1.0//EN
CALSCALE:GREGORIAN
METHOD:PUBLISH
X-WR-CALNAME:Saskatchewan Institute of Agrologists
X-ORIGINAL-URL:https://sia.sk.ca
X-WR-CALDESC:Events for Saskatchewan Institute of Agrologists
REFRESH-INTERVAL;VALUE=DURATION:PT1H
X-Robots-Tag:noindex
X-PUBLISHED-TTL:PT1H
BEGIN:VTIMEZONE
TZID:America/Regina
BEGIN:STANDARD
TZOFFSETFROM:-0600
TZOFFSETTO:-0600
TZNAME:CST
DTSTART:20240101T000000
END:STANDARD
END:VTIMEZONE
BEGIN:VEVENT
DTSTART;TZID=America/Regina:20250723T080000
DTEND;TZID=America/Regina:20250724T153000
DTSTAMP:20260419T162619
CREATED:20250515T213345Z
LAST-MODIFIED:20250515T213345Z
UID:239045-1753257600-1753371000@sia.sk.ca
SUMMARY:2025 Crop Diagnostic School
DESCRIPTION:2025 Crop Diagnostic School \nThe Saskatchewan Ministry of Agriculture is proud to partner with the Western Applied Research Corporation (WARC) in Scott to bring another year of Crop Diagnostic School to you. You can expect an in-depth training opportunity for agronomists\, producers\, industry and retail to improve your crop scouting skills and further your agronomic knowledge. \nScott\, SK – July 23 OR 24\, 2025 (choose one day only) \nHost: Western Applied Research Corporation (WARC) in Scott\, SK (WARC – Western Applied Research Corporation) \nLocation: Secondary Site for WARC located just outside of Scott\, SK \nDirections: From the intersection of highway 14 and 374\, head south on highway 374 for 4 km. Turn west at the “Western Applied Research Corporation” sign just before you reach the town of Scott. This will lead you into the research station where further instructions on where to park will be present. You can find the location on google here: https://maps.app.goo.gl/Qw38Jw56VLKSQpv16. \nTime: Registration runs from 8:00 a.m. to 8:30 a.m. The school itself will run from 8:30 a.m. to 3:15 p.m. each day. \nCost: $120.00 per person plus $23.34 for service fees and sales tax (includes lunch\, a Crop Diagnostic Handbook and backpack) \nContact: Tyce Masich\, 1-866-457-2377\, tyce.masich@gov.sk.ca. \nRegistration Page:
URL:https://sia.sk.ca/event-calendar/2025-crop-diagnostic-school/
END:VEVENT
BEGIN:VEVENT
DTSTART;TZID=America/Regina:20250724T083000
DTEND;TZID=America/Regina:20250724T150000
DTSTAMP:20260419T162619
CREATED:20250528T161957Z
LAST-MODIFIED:20250528T161957Z
UID:239065-1753345800-1753369200@sia.sk.ca
SUMMARY:SIA Orientation to Agrology Workshop
DESCRIPTION:Are you a newly licensed agrologist? Register today for the Orientation to Agrology Workshop \nPLEASE NOTE: Only licensed agrologists qualify to participate in the workshop. Applications sent in do not count as licensed\, please wait to register! \nDate: Thursday\, July 24\, 2025 \nTime: 8:30 am to 3:00 pm \nLocation: Online Webinar \nCost: $208.95 (includes GST) Note: Price does not include processing fees. \nRegistration Deadline: Tuesday\, July 22\, 2025 \nMaximum – 10 participants \nWebinar Requirements – MUST CONNECT WITH AUDIO & VIDEO \nNOTE: The meeting link\, ID and password will be sent to you via email. \nRefund Policy; Refunds up to 7 days before event \nRegister: 
URL:https://sia.sk.ca/event-calendar/sia-orientation-to-agrology-workshop-9/
END:VEVENT
BEGIN:VEVENT
DTSTART;TZID=America/Regina:20250724T090000
DTEND;TZID=America/Regina:20250724T130000
DTSTAMP:20260419T162619
CREATED:20250709T193335Z
LAST-MODIFIED:20250709T193335Z
UID:239179-1753347600-1753362000@sia.sk.ca
SUMMARY:SIA Yorkton Branch - Agri-ARM 2025 Crop Plot Tour
DESCRIPTION:Join the SIA Yorkton Branch for the Agri-ARM 2025 Crop Plot Tour at the East Central Research Foundation(E.C.R.F) Farm on July 24\, 2025 at 9:30 am. The tour will include presentations from Mike Hall PAg\, Research Manager with E.C.R.F Ltd.\, Olivia Kennedy AAg\, Agronomist with Grain Millers Inc.\, and Warren Ward PAg\, Agronomy Specialist\, with the Canola Council of Canada. \nDate: July 24\, 2025 \nRegistration: 9:00 am \nTour: 9:30 am \nLocation: Farm is located 1/2 mile South of Yorkton on Gladstone/York Lake Rd. \nRegister here\nRegistration deadline: July 23\, 2025 \nCost: No Charge \nLunch will be served following the tour. \nThis activity counts as both a branch activity for articilng milestones and CPD.
URL:https://sia.sk.ca/event-calendar/sia-yorkton-branch-agri-arm-2025-crop-plot-tour/
END:VEVENT
END:VCALENDAR