BEGIN:VCALENDAR
VERSION:2.0
PRODID:-//Saskatchewan Institute of Agrologists - ECPv6.15.20//NONSGML v1.0//EN
CALSCALE:GREGORIAN
METHOD:PUBLISH
X-WR-CALNAME:Saskatchewan Institute of Agrologists
X-ORIGINAL-URL:https://sia.sk.ca
X-WR-CALDESC:Events for Saskatchewan Institute of Agrologists
REFRESH-INTERVAL;VALUE=DURATION:PT1H
X-Robots-Tag:noindex
X-PUBLISHED-TTL:PT1H
BEGIN:VTIMEZONE
TZID:America/Regina
BEGIN:STANDARD
TZOFFSETFROM:-0600
TZOFFSETTO:-0600
TZNAME:CST
DTSTART:20240101T000000
END:STANDARD
END:VTIMEZONE
BEGIN:VEVENT
DTSTART;TZID=America/Regina:20250918T133000
DTEND;TZID=America/Regina:20250918T150000
DTSTAMP:20260419T131512
CREATED:20250909T160806Z
LAST-MODIFIED:20250909T160806Z
UID:239239-1758202200-1758207600@sia.sk.ca
SUMMARY:SIA - Saskatoon Branch - POS Biosciences Facilities Tour
DESCRIPTION:Join the SIA Saskatoon Branch for a tour of the POS Biosciences Facilities on Thursday\, September 18\, 2025\, at 1:30pm. Thushan S. Withana-Gamage\, Ph.D.\, Principal Scientist\, Innovation and Technology of POS will lead the tour. \nCost: FREE \nCapacity: limit 10 agrologists \nRegistration deadline: September 16\, 2025 \nLocation: POS Biosciences Facilities 118 Veterinary Rd\, Saskatoon \nPOS Biosciences Facilities description: For over four decades\, POS (Proteins\, Oils\, and Starches) Biosciences has been at the forefront of innovation across the food\, nutraceutical\, cosmetics\, and bio-product industries. As the original pioneer in canola oil research and ingredient development\, POS Biosciences operates 11 laboratories and six pilot plant facilities dedicated to oil processing\, concentration\, and molecular distillation. The company specializes in value-added\, plant-based bioprocessing of oils and proteins\, driving advancements that support a more sustainable and functional future. \nImportant Note – Dress Code: Legs and ankles must be fully covered when entering production area. \nPlease DO NOT wear jewelry (including watches\, fitness trackers\, necklaces\, earrings\, rings\, body piercing)\, neck ties\, or scarves. \nNail polish or false nails are not permitted in the production area. \nThis event qualifies as a branch activity for articling milestones and as CPD. \nRegister: 
URL:https://sia.sk.ca/event-calendar/sia-saskatoon-branch-pos-biosciences-facilities-tour/
END:VEVENT
END:VCALENDAR