BEGIN:VCALENDAR
VERSION:2.0
PRODID:-//Saskatchewan Institute of Agrologists - ECPv6.15.20//NONSGML v1.0//EN
CALSCALE:GREGORIAN
METHOD:PUBLISH
X-ORIGINAL-URL:https://sia.sk.ca
X-WR-CALDESC:Events for Saskatchewan Institute of Agrologists
REFRESH-INTERVAL;VALUE=DURATION:PT1H
X-Robots-Tag:noindex
X-PUBLISHED-TTL:PT1H
BEGIN:VTIMEZONE
TZID:America/Regina
BEGIN:STANDARD
TZOFFSETFROM:-0600
TZOFFSETTO:-0600
TZNAME:CST
DTSTART:20240101T000000
END:STANDARD
END:VTIMEZONE
BEGIN:VEVENT
DTSTART;TZID=America/Regina:20251103T080000
DTEND;TZID=America/Regina:20251203T170000
DTSTAMP:20260419T100944
CREATED:20251105T155451Z
LAST-MODIFIED:20251105T155451Z
UID:239424-1762156800-1764781200@sia.sk.ca
SUMMARY:Farm Resilience Mentorship (FaRM) Program
DESCRIPTION:The Farm Resilience Mentorship (FaRM) Program is pleased to launch a call for letters of intent (LOI) for FaRM Field Trials\, opening on November 3rd\, 2025. The focus of the program is on increasing regional support and knowledge transfer in low emissions\, high resilience Beneficial Management Practices (BMPs) by engaging agricultural professionals\, in partnership with farmers and ranchers\, to run field trials. The low emissions\, high resilience Beneficial Management Practices (BMPs) supported through this program are: \n\n\nImproved Nitrogen Management \n\n\nCover Cropping \n\n\nRotational Grazing \n\n\nThis initiative seeks to specifically support: \n\n\nOvercoming regional barriers to BMP implementation\, and \n\n\nTroubleshooting BMP adoption through practical\, hands-on experience. \n\n\nUp to $20\,000 is available per project\, and successful applicants will be notified by early March. The deadline for LOI submission is midnight November 23\, 2025. Please visit our website for eligibility criteria and more information. \nWe will be hosting a Q&A Session on November 6th in English (12 ET) and French (3 ET). \nClick here for more information.
URL:https://sia.sk.ca/event-calendar/farm-resilience-mentorship-farm-program-2/
END:VEVENT
BEGIN:VEVENT
DTSTART;TZID=America/Regina:20251120T083000
DTEND;TZID=America/Regina:20251120T153000
DTSTAMP:20260419T100944
CREATED:20251009T223209Z
LAST-MODIFIED:20251009T223209Z
UID:239344-1763627400-1763652600@sia.sk.ca
SUMMARY:SIA Orientation to Agrology Workshop - November 20\, 2025
DESCRIPTION:PLEASE NOTE: Only licensed agrologists qualify to participate in the workshop. Applications sent in do not count as licensed\, please wait to register! \nDate: Thursday November 20\, 2025 \nTime: 8:30 am to 3:30 pm \nLocation: Online Webinar \nCost: $208.95 (includes GST) Note: Price does not include processing fees. \nRegistration Deadline: Tuesday November 18\, 2025 \nMaximum – 10 participants \nWebinar Requirements – MUST CONNECT WITH AUDIO & VIDEO \nNOTE: The meeting link and workshop material will be sent to you via email the day before the workshop. \nRegister Here:
URL:https://sia.sk.ca/event-calendar/sia-orientation-to-agrology-workshop-november-20-2025/
LOCATION:Online Course
END:VEVENT
BEGIN:VEVENT
DTSTART;TZID=America/Regina:20251120T120000
DTEND;TZID=America/Regina:20251120T130000
DTSTAMP:20260419T100944
CREATED:20251107T220904Z
LAST-MODIFIED:20251107T220904Z
UID:239430-1763640000-1763643600@sia.sk.ca
SUMMARY:Webinar Future-Proofing Your Marketing: AI Strategies for Agriculture Communicators
DESCRIPTION:Learn how to use AI tools to work smarter—not harder—in content creation\, research\, campaign planning\, and stakeholder engagement\, while also preparing for what’s coming next. This future-focused session explores how emerging AI trends will shape agriculture communications over the next 12 to 24 months\, and what professionals can do now to stay ahead. Through real-world examples from the ag industry\, we’ll demonstrate responsible AI use and share simple strategies to boost productivity\, support informed decision-making\, and protect trust\, accuracy\, and authenticity. Whether you’re just getting started or already experimenting with AI\, you’ll leave with the confidence and insight to future-proof your communications strategy in a rapidly evolving industry. \nRegister here.
URL:https://sia.sk.ca/event-calendar/webinar-future-proofing-your-marketing-ai-strategies-for-agriculture-communicators/
END:VEVENT
BEGIN:VEVENT
DTSTART;TZID=America/Regina:20251120T190000
DTEND;TZID=America/Regina:20251120T220000
DTSTAMP:20260419T100944
CREATED:20251030T223819Z
LAST-MODIFIED:20251113T183838Z
UID:239397-1763665200-1763676000@sia.sk.ca
SUMMARY:SIA Northwest Branch Networking and 4th Meridian Brewery Tour
DESCRIPTION:The SIA Northwest Branch is pleased to invite you to a tour of the 4th Meridian Brewery followed by a networking event on Thursday\, November 20\, 2025\, from 7:00 p.m. to 10:00 p.m. The tour will be held at the 4th Meridian Brewery\, 2632 50 Avenue\, Lloydminster\, AB. This event is being sponsored by the SIA NW Branch and ALS laboratories. \nCost: Free \nMaximum 50 participants \nREGISTER TODAY \nRegistration Deadline: November 18\, 2025 \nAbout the 4th Meridian Brewery: 4th Meridian Brewing Co. is a down-to-earth\, family-owned craft brewery in Lloydminster. Located on the Alberta/Saskatchewan border (aka 4th Meridian)\, they serve up small-batch beers brewed with love and a lot of grit. It’s a place where good times and great beer come together\, capturing the heart and soul of the community. \nThis qualifies as a branch activity for articling milestones and as CPD. \n 
URL:https://sia.sk.ca/event-calendar/sia-northwest-branch-networking-and-4th-meridian-brewery-tour/
END:VEVENT
END:VCALENDAR