BEGIN:VCALENDAR
VERSION:2.0
PRODID:-//Saskatchewan Institute of Agrologists - ECPv6.15.20//NONSGML v1.0//EN
CALSCALE:GREGORIAN
METHOD:PUBLISH
X-ORIGINAL-URL:https://sia.sk.ca
X-WR-CALDESC:Events for Saskatchewan Institute of Agrologists
REFRESH-INTERVAL;VALUE=DURATION:PT1H
X-Robots-Tag:noindex
X-PUBLISHED-TTL:PT1H
BEGIN:VTIMEZONE
TZID:America/Regina
BEGIN:STANDARD
TZOFFSETFROM:-0600
TZOFFSETTO:-0600
TZNAME:CST
DTSTART:20240101T000000
END:STANDARD
END:VTIMEZONE
BEGIN:VEVENT
DTSTART;TZID=America/Regina:20251103T080000
DTEND;TZID=America/Regina:20251203T170000
DTSTAMP:20260419T114414
CREATED:20251105T155451Z
LAST-MODIFIED:20251105T155451Z
UID:239424-1762156800-1764781200@sia.sk.ca
SUMMARY:Farm Resilience Mentorship (FaRM) Program
DESCRIPTION:The Farm Resilience Mentorship (FaRM) Program is pleased to launch a call for letters of intent (LOI) for FaRM Field Trials\, opening on November 3rd\, 2025. The focus of the program is on increasing regional support and knowledge transfer in low emissions\, high resilience Beneficial Management Practices (BMPs) by engaging agricultural professionals\, in partnership with farmers and ranchers\, to run field trials. The low emissions\, high resilience Beneficial Management Practices (BMPs) supported through this program are: \n\n\nImproved Nitrogen Management \n\n\nCover Cropping \n\n\nRotational Grazing \n\n\nThis initiative seeks to specifically support: \n\n\nOvercoming regional barriers to BMP implementation\, and \n\n\nTroubleshooting BMP adoption through practical\, hands-on experience. \n\n\nUp to $20\,000 is available per project\, and successful applicants will be notified by early March. The deadline for LOI submission is midnight November 23\, 2025. Please visit our website for eligibility criteria and more information. \nWe will be hosting a Q&A Session on November 6th in English (12 ET) and French (3 ET). \nClick here for more information.
URL:https://sia.sk.ca/event-calendar/farm-resilience-mentorship-farm-program-2/
END:VEVENT
BEGIN:VEVENT
DTSTART;TZID=America/Regina:20251125T090000
DTEND;TZID=America/Regina:20251125T150000
DTSTAMP:20260419T114414
CREATED:20251117T173744Z
LAST-MODIFIED:20251117T173744Z
UID:239442-1764061200-1764082800@sia.sk.ca
SUMMARY:SaskFSA AGM & Conference
DESCRIPTION:The SaskFSA AGM brings together farm-focused strategies\, applied research and landowner experiences to drive practical policy solutions. Gain new tools for your water management toolbox\, get the latest updates\, connect with like-minded farmers\, and ensure your voice is part of the conversation. SaskFSA\, a collective influence to secure policies that work for farmers\, not against them. \nRegister Here
URL:https://sia.sk.ca/event-calendar/saskfsa-agm-conference/
LOCATION:Yorkton\, Yorkton\, SK\, Canada
END:VEVENT
BEGIN:VEVENT
DTSTART;TZID=America/Regina:20251125T090000
DTEND;TZID=America/Regina:20251125T160000
DTSTAMP:20260419T114414
CREATED:20251104T154736Z
LAST-MODIFIED:20251104T154736Z
UID:239407-1764061200-1764086400@sia.sk.ca
SUMMARY:FCC Business Management Workshop - Lloydminster
DESCRIPTION:Farming today brings new challenges and rapid changes like never before. This Farm Business Management Workshop helps you stay in control. FCC and Farmer Coach offer this one-day\, in-person workshop to help you manage your operation with confidence. From financials to strategy\, we’re here to help you break through business barriers and succeed. \nRegister here
URL:https://sia.sk.ca/event-calendar/fcc-business-management-workshop-lloydminster/
END:VEVENT
END:VCALENDAR