BEGIN:VCALENDAR
VERSION:2.0
PRODID:-//Saskatchewan Institute of Agrologists - ECPv6.15.20//NONSGML v1.0//EN
CALSCALE:GREGORIAN
METHOD:PUBLISH
X-WR-CALNAME:Saskatchewan Institute of Agrologists
X-ORIGINAL-URL:https://sia.sk.ca
X-WR-CALDESC:Events for Saskatchewan Institute of Agrologists
REFRESH-INTERVAL;VALUE=DURATION:PT1H
X-Robots-Tag:noindex
X-PUBLISHED-TTL:PT1H
BEGIN:VTIMEZONE
TZID:America/Regina
BEGIN:STANDARD
TZOFFSETFROM:-0600
TZOFFSETTO:-0600
TZNAME:CST
DTSTART:20240101T000000
END:STANDARD
END:VTIMEZONE
BEGIN:VEVENT
DTSTART;TZID=America/Regina:20251103T080000
DTEND;TZID=America/Regina:20251203T170000
DTSTAMP:20260419T083317
CREATED:20251105T155451Z
LAST-MODIFIED:20251105T155451Z
UID:239424-1762156800-1764781200@sia.sk.ca
SUMMARY:Farm Resilience Mentorship (FaRM) Program
DESCRIPTION:The Farm Resilience Mentorship (FaRM) Program is pleased to launch a call for letters of intent (LOI) for FaRM Field Trials\, opening on November 3rd\, 2025. The focus of the program is on increasing regional support and knowledge transfer in low emissions\, high resilience Beneficial Management Practices (BMPs) by engaging agricultural professionals\, in partnership with farmers and ranchers\, to run field trials. The low emissions\, high resilience Beneficial Management Practices (BMPs) supported through this program are: \n\n\nImproved Nitrogen Management \n\n\nCover Cropping \n\n\nRotational Grazing \n\n\nThis initiative seeks to specifically support: \n\n\nOvercoming regional barriers to BMP implementation\, and \n\n\nTroubleshooting BMP adoption through practical\, hands-on experience. \n\n\nUp to $20\,000 is available per project\, and successful applicants will be notified by early March. The deadline for LOI submission is midnight November 23\, 2025. Please visit our website for eligibility criteria and more information. \nWe will be hosting a Q&A Session on November 6th in English (12 ET) and French (3 ET). \nClick here for more information.
URL:https://sia.sk.ca/event-calendar/farm-resilience-mentorship-farm-program-2/
END:VEVENT
BEGIN:VEVENT
DTSTART;TZID=America/Regina:20251201T130000
DTEND;TZID=America/Regina:20251201T163000
DTSTAMP:20260419T083317
CREATED:20251106T210223Z
LAST-MODIFIED:20251106T210223Z
UID:239426-1764594000-1764606600@sia.sk.ca
SUMMARY:Irrigation Water Workshop
DESCRIPTION:A workshop led by the Water Security Agency (WSA) focused on gathering feedback and updating attendees on irrigation reporting\, coordinated planning of infrastructure and the regulatory process. \nYou will: \n\nget updates on a new method of irrigation reporting;\nprovide feedback on shared irrigation infrastructure and access to water;\nlearn about WSA’s opportunities for approval\, modernization\, and gathering feedback on different approaches to land control\n\nClick here for tickets and/or more information.
URL:https://sia.sk.ca/event-calendar/irrigation-water-workshop/
LOCATION:TCU Place\, 35 – 22 Street E.\, Saskatoon\, SK\, 35 - 22nd St. E.\, Saskatoon\, Saskatchewan\, Canada
END:VEVENT
BEGIN:VEVENT
DTSTART;TZID=America/Regina:20251201T170000
DTEND;TZID=America/Regina:20251203T170000
DTSTAMP:20260419T083317
CREATED:20251021T170216Z
LAST-MODIFIED:20251021T170216Z
UID:239370-1764608400-1764781200@sia.sk.ca
SUMMARY:2025 Irrigation Conference
DESCRIPTION:2025 Irrigation Conference – Water Under Pressure: Adapting to a new normal. \nDecember 1 to 3\, 2025 \nWe are pleased to announce our keynote speaker is Nikolas Badminton\, Chief Futurist at futurist.com. \nTICKET SALES ARE NOW OPEN!\nSave $75.00 on your full conference registration\, now until November 15th.
URL:https://sia.sk.ca/event-calendar/2025-irrigation-conference/
LOCATION:TCU Place\, 35 – 22 Street E.\, Saskatoon\, SK\, 35 - 22nd St. E.\, Saskatoon\, Saskatchewan\, Canada
END:VEVENT
END:VCALENDAR