BEGIN:VCALENDAR
VERSION:2.0
PRODID:-//Saskatchewan Institute of Agrologists - ECPv6.15.20//NONSGML v1.0//EN
CALSCALE:GREGORIAN
METHOD:PUBLISH
X-ORIGINAL-URL:https://sia.sk.ca
X-WR-CALDESC:Events for Saskatchewan Institute of Agrologists
REFRESH-INTERVAL;VALUE=DURATION:PT1H
X-Robots-Tag:noindex
X-PUBLISHED-TTL:PT1H
BEGIN:VTIMEZONE
TZID:America/Regina
BEGIN:STANDARD
TZOFFSETFROM:-0600
TZOFFSETTO:-0600
TZNAME:CST
DTSTART:20240101T000000
END:STANDARD
END:VTIMEZONE
BEGIN:VEVENT
DTSTART;TZID=America/Regina:20251210T093000
DTEND;TZID=America/Regina:20251211T154500
DTSTAMP:20260419T083511
CREATED:20251021T192403Z
LAST-MODIFIED:20251021T192403Z
UID:239379-1765359000-1765467900@sia.sk.ca
SUMMARY:Agronomy Research Update 2025
DESCRIPTION:Short Description:\nThe Saskatchewan Ministry of Agriculture is excited to bring you another year of Agronomy Research Update\, offered both in-person and online! Agronomists\, producers\, industry and retail attendees will have the opportunity to learn about what happened in the 2025 growing season and the potential impact in 2026\, as well as the latest research impacting crop production in the province. There will be a variety of experts speaking with focused sessions on disease\, soils\, herbicides\, and insects over the two days. \nDetails\nDate:  December 10 and 11 ( two-day event)\nLocation: TCU Place\, 35 – 22 Street East\, Saskatoon\, SK  S7K 0C8 \nEvent Registration Link: Click here\n \n 
URL:https://sia.sk.ca/event-calendar/agronomy-research-update-2025/
LOCATION:TCU Place\, 35 – 22 Street E.\, Saskatoon\, SK\, 35 - 22nd St. E.\, Saskatoon\, Saskatchewan\, Canada
END:VEVENT
BEGIN:VEVENT
DTSTART;TZID=America/Regina:20251211T100000
DTEND;TZID=America/Regina:20251211T153000
DTSTAMP:20260419T083511
CREATED:20251104T160243Z
LAST-MODIFIED:20251104T160243Z
UID:239414-1765447200-1765467000@sia.sk.ca
SUMMARY:FCC Young Farmer Summit - Red Deer
DESCRIPTION:Join us for this exciting\, free\, full-day event aimed at farmers under 40 to enhance your farm management skills. Hosted by Olympian and rancher Sage Walker\, each program event features keynote speaker Tom Deans and covers practical topics. \nRegister here
URL:https://sia.sk.ca/event-calendar/fcc-young-farmer-summit-red-deer/
LOCATION:Red Deer Resort & Casino\, 3310 50 Avenue\, Red Deer\, AB\, T4N 3X9\, Canada
END:VEVENT
END:VCALENDAR