BEGIN:VCALENDAR
VERSION:2.0
PRODID:-//Saskatchewan Institute of Agrologists - ECPv6.15.20//NONSGML v1.0//EN
CALSCALE:GREGORIAN
METHOD:PUBLISH
X-ORIGINAL-URL:https://sia.sk.ca
X-WR-CALDESC:Events for Saskatchewan Institute of Agrologists
REFRESH-INTERVAL;VALUE=DURATION:PT1H
X-Robots-Tag:noindex
X-PUBLISHED-TTL:PT1H
BEGIN:VTIMEZONE
TZID:America/Regina
BEGIN:STANDARD
TZOFFSETFROM:-0600
TZOFFSETTO:-0600
TZNAME:CST
DTSTART:20250101T000000
END:STANDARD
END:VTIMEZONE
BEGIN:VEVENT
DTSTART;TZID=America/Regina:20260112T000000
DTEND;TZID=America/Regina:20260330T000000
DTSTAMP:20260419T065250
CREATED:20251211T193504Z
LAST-MODIFIED:20260331T160130Z
UID:239507-1768176000-1774828800@sia.sk.ca
SUMMARY:Cover Crop Certification for Professionals
DESCRIPTION:Canadian Organic Growers (COG) is proud to offer the Cover Crop Certification for Professionals\, an advanced\, applied training program designed to strengthen the knowledge and capacity of agronomists\, agrologists\, Certified Crop Advisors (CCAs)\, and other agricultural professionals who support farmers in the adoption and management of cover crops.\nCover crops play a critical role in sustainable agriculture; improving soil health\, enhancing biodiversity\, supporting water quality\, and increasing climate resilience. Yet\, despite their proven benefits\, consistent and confident use of cover crops across Canada remains limited. This course addresses that gap by equipping professionals with the technical understanding and applied skills to design\, implement\, and evaluate successful cover crop systems across diverse Canadian regions and production contexts.\nRegister here.
URL:https://sia.sk.ca/event-calendar/cover-crop-certification-for-professionals/
END:VEVENT
BEGIN:VEVENT
DTSTART;TZID=America/Regina:20260120T073000
DTEND;TZID=America/Regina:20260122T170000
DTSTAMP:20260419T065250
CREATED:20260112T215241Z
LAST-MODIFIED:20260112T215242Z
UID:239579-1768894200-1769101200@sia.sk.ca
SUMMARY:Saskatchewan Beef Industry Conference
DESCRIPTION:From producers to policy makers\, SBIC offers opportunities to share. Some exciting events on the agenda include;  SBIC Tradeshow Reception\, Ring of Honour Banquet\, Special Announcements\, VBP+ AGM\, SK Cattle Feeders AGM\, SK Cattle Association AGM\, Livestock Marketers Meeting Sessions and more! \nRegistration
URL:https://sia.sk.ca/event-calendar/saskatchewan-beef-industry-conference/
LOCATION:Saskatoon Inn and Conference Centre\, 2002 Airport Drive\, Saskatoon\, SK
END:VEVENT
BEGIN:VEVENT
DTSTART;TZID=America/Regina:20260120T090000
DTEND;TZID=America/Regina:20260122T170000
DTSTAMP:20260419T065250
CREATED:20251208T194449Z
LAST-MODIFIED:20251208T194449Z
UID:239465-1768899600-1769101200@sia.sk.ca
SUMMARY:Manitoba Ag Days
DESCRIPTION:The Manitoba Ag Days show is an exposition of agricultural production expertise\, technology\, and equipment that attracts exhibitors and visitors from across Canada and the United States of America.\nClick here for details.
URL:https://sia.sk.ca/event-calendar/manitoba-ag-days/
LOCATION:Brandon\, Brandon\, MB\, Canada
END:VEVENT
BEGIN:VEVENT
DTSTART;VALUE=DATE:20260121
DTEND;VALUE=DATE:20260216
DTSTAMP:20260419T065250
CREATED:20260121T214430Z
LAST-MODIFIED:20260121T214430Z
UID:239630-1768953600-1771199999@sia.sk.ca
SUMMARY:AWC Student Program
DESCRIPTION:Agriculture university and college students come together with sponsors at AWC!\nTwo things make the AWC Student program successful:\n1. Students who are excited about starting their career path with a blast of inspiration\, some great direction\, and a network of leaders at their fingertips.\n2. Industry leaders who will join us in sponsoring and supporting these students and future leaders\, giving them the opportunity to attend AWC and reap the benefits.\nAWC matches students from agricultural degree and diploma programs across Canada with companies looking to invest in future leaders!\nAre you a student that would like to apply for Sponsorship?  The AWC West 2026 Student Applications will be accepted on a first-come basis.  Thank you to our students – we can’t wait to meet you at the conference!\nClick here for more information.
URL:https://sia.sk.ca/event-calendar/awc-student-program/
END:VEVENT
BEGIN:VEVENT
DTSTART;TZID=America/Regina:20260121T200000
DTEND;TZID=America/Regina:20260121T200000
DTSTAMP:20260419T065250
CREATED:20251211T195431Z
LAST-MODIFIED:20251211T201341Z
UID:239509-1769025600-1769025600@sia.sk.ca
SUMMARY:To Implant or Not? What Cow-Calf Producers Need to Know Webinar
DESCRIPTION:Speakers: Dr. Lauren Younker\, TELUS Agriculture\, and Betty Green\, G7 Ranch\nHormone implants are one of the most researched and cost-effective tools available to beef producers\, yet uncertainty and misconceptions often keep them from being used. This webinar will break down the facts – what implants are\, why they work\, how to administer them and where they can benefit cow-calf operations.\nRegister here.
URL:https://sia.sk.ca/event-calendar/to-implant-or-not-what-cow-calf-producers-need-to-know-webinar/
END:VEVENT
END:VCALENDAR