BEGIN:VCALENDAR
VERSION:2.0
PRODID:-//Saskatchewan Institute of Agrologists - ECPv6.15.20//NONSGML v1.0//EN
CALSCALE:GREGORIAN
METHOD:PUBLISH
X-WR-CALNAME:Saskatchewan Institute of Agrologists
X-ORIGINAL-URL:https://sia.sk.ca
X-WR-CALDESC:Events for Saskatchewan Institute of Agrologists
REFRESH-INTERVAL;VALUE=DURATION:PT1H
X-Robots-Tag:noindex
X-PUBLISHED-TTL:PT1H
BEGIN:VTIMEZONE
TZID:America/Regina
BEGIN:STANDARD
TZOFFSETFROM:-0600
TZOFFSETTO:-0600
TZNAME:CST
DTSTART:20250101T000000
END:STANDARD
END:VTIMEZONE
BEGIN:VEVENT
DTSTART;TZID=America/Regina:20260423T113000
DTEND;TZID=America/Regina:20260423T133000
DTSTAMP:20260423T032858
CREATED:20260318T193332Z
LAST-MODIFIED:20260318T193425Z
UID:240004-1776943800-1776951000@sia.sk.ca
SUMMARY:Qualified Person (QP) Saskatchewan Environment
DESCRIPTION:Are you looking to feel more confident in your qualified person (QP) duties for the\nSaskatchewan Environmental Code? Join us for a free virtual learning session designed\nspecifically for QPs like you. \nHalocarbon Control Chapter\n11:30 a.m. to 1:30 p.m.\nApril 23\, 2026\n· QP Requirements\n· How do I become a QP\n· Audit findings \nFor more information click here \nHow do I become a QP?\n11:30 a.m. to 1:30 p.m.\nMay 7\, 2026\n· Application process and requirements\n· Who can become a QP\n~ Impacted Sites\n~ ISAQ EPPs\n~ Waste Management \nFor more information click here
URL:https://sia.sk.ca/event-calendar/qualified-person-qp-saskatchewan-environment/
END:VEVENT
BEGIN:VEVENT
DTSTART;TZID=America/Regina:20260423T123000
DTEND;TZID=America/Regina:20260423T133000
DTSTAMP:20260423T032858
CREATED:20251217T220920Z
LAST-MODIFIED:20251217T220920Z
UID:239532-1776947400-1776951000@sia.sk.ca
SUMMARY:Water & Disasters Online
DESCRIPTION:Host\n\nJacob Alhassan\nAssistant Prof. Community Health and Epidemiology\nCollege of Medicine\, University of Saskatchewan\n\nGuests\n\nAnais Roque\nJohn Hope Franklin Assistant Prof. of Environmental Social Sciences\nNicholas School of the Environment\, Duke University\nRowena Dacsig\nPolicy Specialist\nUN Women Myanmar \nRegister
URL:https://sia.sk.ca/event-calendar/water-disasters-online/
END:VEVENT
END:VCALENDAR