BEGIN:VCALENDAR
VERSION:2.0
PRODID:-//Saskatchewan Institute of Agrologists - ECPv6.15.20//NONSGML v1.0//EN
CALSCALE:GREGORIAN
METHOD:PUBLISH
X-WR-CALNAME:Saskatchewan Institute of Agrologists
X-ORIGINAL-URL:https://sia.sk.ca
X-WR-CALDESC:Events for Saskatchewan Institute of Agrologists
REFRESH-INTERVAL;VALUE=DURATION:PT1H
X-Robots-Tag:noindex
X-PUBLISHED-TTL:PT1H
BEGIN:VTIMEZONE
TZID:America/Regina
BEGIN:STANDARD
TZOFFSETFROM:-0600
TZOFFSETTO:-0600
TZNAME:CST
DTSTART:20250101T000000
END:STANDARD
END:VTIMEZONE
BEGIN:VEVENT
DTSTART;TZID=America/Regina:20260422T130000
DTEND;TZID=America/Regina:20260422T150000
DTSTAMP:20260423T151900
CREATED:20260408T154834Z
LAST-MODIFIED:20260408T155100Z
UID:240016-1776862800-1776870000@sia.sk.ca
SUMMARY:SIA - Yorkton Branch - Vaderstad Industries Inc Tour
DESCRIPTION:Register: \nJoin the SIA Yorkton Branch for a tour of Vaderstad Industries production facilities\, followed by a presentation highlighting current production practices and the latest research developments. \nDate: April 22\, 2026 \nTime: 1:00pm – 3:00pm \nCost: Free \nLocation: Vaderstad Industries Inc. – 2 miles N of Langbank on Hwy9 \nMaximum: 100 participants \nRegistration Deadline: April 20\, 2026 \nThis qualifies as a branch activity for articling milestones and as CPD. \nRegister:
URL:https://sia.sk.ca/event-calendar/sia-yorkton-branch-vaderstad-industries-inc-tour-2/
END:VEVENT
BEGIN:VEVENT
DTSTART;TZID=America/Regina:20260422T150000
DTEND;TZID=America/Regina:20260422T160000
DTSTAMP:20260423T151900
CREATED:20260401T153907Z
LAST-MODIFIED:20260401T153907Z
UID:240050-1776870000-1776873600@sia.sk.ca
SUMMARY:Invitation: April 22 Seminar on Sustainable Byproduct Upcycling
DESCRIPTION:You are invited to join us for an upcoming seminar in the College of AgBio exploring innovative approaches to food security and sustainable resource use: \nIntegrated Systems Approach for Sustainable Byproduct Upcycling\nDr. Nurhan Turgut Dunford\nApril 22\, 3:00–4:00 PM\nAgriculture Building 2E25 \nDr. Turgut Dunford is the Fulbright Canada Research Chair in Food Security at the University of Guelph and a Professor in the Department of Biosystems and Agricultural Engineering at Oklahoma State University (OSU). Her research focuses on addressing the dual global challenge of increasing food demand and managing agro‑industrial byproducts more sustainably. \nIn this seminar\, Dr. Turgut Dunford will discuss how grain and oilseed byproducts\, often rich in proteins\, fibers\, lipids\, and bioactive compounds\, can be upcycled using green\, environmentally responsible processes. She will highlight examples from ongoing OSU research where low‑value byproducts are transformed into high‑value nutritional ingredients\, functional foods\, and industrial precursors. The presentation will demonstrate how engineering innovations can optimize nutrient recovery while reducing the environmental footprint of food production and contributing to a more circular bioeconomy. \nDr. Turgut Dunford will also share insights into the Fulbright Canada Research Chair in Food Security program and the collaborative research ecosystems at both the University of Guelph and Oklahoma State University. \nWe hope you will join us for this engaging and timely session.
URL:https://sia.sk.ca/event-calendar/invitation-april-22-seminar-on-sustainable-byproduct-upcycling/
END:VEVENT
BEGIN:VEVENT
DTSTART;TZID=America/Regina:20260422T150000
DTEND;TZID=America/Regina:20260422T170000
DTSTAMP:20260423T151900
CREATED:20260414T152137Z
LAST-MODIFIED:20260414T152137Z
UID:240080-1776870000-1776877200@sia.sk.ca
SUMMARY:Prairie Food Link April Mixer
DESCRIPTION:Prairie Food Link April Mixer: \nBrewed Connections \nwith Great Western Brewing \n \n\nApril 22\, 2026 \nGreat Western Brewing\, 519 2nd Ave N\, Saskatoon\, SK \n3:00pm – 5:00pm | Light snacks and drinks | Q&A\, Tours & Networking \n\nCelebrate expansion and innovation with the Great Western team—featuring Q&A\, behind-the-scenes tours\, and member networking. \nAlcohol will be served. Your safety is important to us\, please plan a safe ride home.  \n\nTicket $25+tax \nRegister Here \n*Are you a Prairie Food Link Member? \nPlease contact Monica Pollard for a promo code \nPrairie Food Link is industry led\, with the support of Ag-West Bio
URL:https://sia.sk.ca/event-calendar/prairie-food-link-april-mixer/
END:VEVENT
BEGIN:VEVENT
DTSTART;TZID=America/Regina:20260423T113000
DTEND;TZID=America/Regina:20260423T133000
DTSTAMP:20260423T151900
CREATED:20260318T193332Z
LAST-MODIFIED:20260318T193425Z
UID:240004-1776943800-1776951000@sia.sk.ca
SUMMARY:Qualified Person (QP) Saskatchewan Environment
DESCRIPTION:Are you looking to feel more confident in your qualified person (QP) duties for the\nSaskatchewan Environmental Code? Join us for a free virtual learning session designed\nspecifically for QPs like you. \nHalocarbon Control Chapter\n11:30 a.m. to 1:30 p.m.\nApril 23\, 2026\n· QP Requirements\n· How do I become a QP\n· Audit findings \nFor more information click here \nHow do I become a QP?\n11:30 a.m. to 1:30 p.m.\nMay 7\, 2026\n· Application process and requirements\n· Who can become a QP\n~ Impacted Sites\n~ ISAQ EPPs\n~ Waste Management \nFor more information click here
URL:https://sia.sk.ca/event-calendar/qualified-person-qp-saskatchewan-environment/
END:VEVENT
BEGIN:VEVENT
DTSTART;TZID=America/Regina:20260423T123000
DTEND;TZID=America/Regina:20260423T133000
DTSTAMP:20260423T151900
CREATED:20251217T220920Z
LAST-MODIFIED:20251217T220920Z
UID:239532-1776947400-1776951000@sia.sk.ca
SUMMARY:Water & Disasters Online
DESCRIPTION:Host\n\nJacob Alhassan\nAssistant Prof. Community Health and Epidemiology\nCollege of Medicine\, University of Saskatchewan\n\nGuests\n\nAnais Roque\nJohn Hope Franklin Assistant Prof. of Environmental Social Sciences\nNicholas School of the Environment\, Duke University\nRowena Dacsig\nPolicy Specialist\nUN Women Myanmar \nRegister
URL:https://sia.sk.ca/event-calendar/water-disasters-online/
END:VEVENT
BEGIN:VEVENT
DTSTART;TZID=America/Regina:20260428T083000
DTEND;TZID=America/Regina:20260428T153000
DTSTAMP:20260423T151900
CREATED:20260312T222545Z
LAST-MODIFIED:20260312T222855Z
UID:239990-1777365000-1777390200@sia.sk.ca
SUMMARY:SIA - Orientation to Agrology Workshop - Tuesday April 28\, 2026
DESCRIPTION:Register: \n\n\nHave you been approved to become an agrologist by the A & R committee and paid your license fee? Join the workshop today! \n\n\n\n\nNOTE: Only licensed agrologists qualify to participate in the workshop. Please wait to register until you have been approved by the Admissions and Registration Committee and paid your licence fee! \nDate: Tuesday April 28\, 2026 \nTime: 8:30 am to 3:30 pm \nLocation: Online Webinar \nCost: $208.95 (includes GST) Note: Price does not include processing fees. \nRegistration Deadline: Sunday April 26\, 2026 \nMaximum – 10 participants \nWebinar Requirements – MUST CONNECT WITH AUDIO & VIDEO \nNOTE: The meeting link\, ID and password will be sent to you via email the day before the workshop. \nThis event qualifies as a branch activity for articling milestones and as CPD. \n\n\nRegister: 
URL:https://sia.sk.ca/event-calendar/sia-orientation-to-agrology-workshop-tuesday-april-28-2026/
LOCATION:Online Course
END:VEVENT
BEGIN:VEVENT
DTSTART;TZID=America/Regina:20260429T110000
DTEND;TZID=America/Regina:20260429T120000
DTSTAMP:20260423T151900
CREATED:20260107T222203Z
LAST-MODIFIED:20260422T194325Z
UID:239552-1777460400-1777464000@sia.sk.ca
SUMMARY:Weed Management Webinar Series: Forage Establishment
DESCRIPTION:Join us for the final session of the four-part weed management webinar series focusing on problem weeds found in rangelands\, pastures\, and hay fields. Today’s webinar is focusing on weed management during forage establishment. The webinar is scheduled for 30 minutes with a question period to follow. Topics include information on invasive weeds\, various control options\, and S-CAP funding opportunities to help producers manage these weeds. \nRegister
URL:https://sia.sk.ca/event-calendar/weed-management-webinar-series-forage-establishment/
END:VEVENT
BEGIN:VEVENT
DTSTART;TZID=America/Regina:20260430T080000
DTEND;TZID=America/Regina:20260501T170000
DTSTAMP:20260423T151900
CREATED:20251218T221204Z
LAST-MODIFIED:20251218T221204Z
UID:239534-1777536000-1777654800@sia.sk.ca
SUMMARY:Saskatchewan Agri-Value Forum Networking 2026
DESCRIPTION:Saskatchewan’s value-added agriculture sector is vibrant and growing. Approximately 300 companies and over 6\,000 employees are powering the sector to exceeding the goal of $10 billion of value-added revenue by 2030! The Agri-Value Forum provides an annual opportunity for agri-value companies and entrepreneurs to gather together with each other\, ecosystem agencies\, and researchers to expand their knowledge\, build their network\, develop the tools and gain the resources needed to continue to growth and strengthen their business.\nRegistration Opens Soon!\nLink to Website
URL:https://sia.sk.ca/event-calendar/saskatchewan-agri-value-forum-networking-2026/
LOCATION:Sheraton Cavalier Saskatoon Hotel\, 612 Spadina Crescent Saskatoon\, SK\, Saskatoon\, Sk\, S7K 3G9\, Canada
END:VEVENT
BEGIN:VEVENT
DTSTART;TZID=America/Regina:20260501T100000
DTEND;TZID=America/Regina:20260501T160000
DTSTAMP:20260423T151900
CREATED:20260422T202852Z
LAST-MODIFIED:20260422T203210Z
UID:240120-1777629600-1777651200@sia.sk.ca
SUMMARY:North Battleford Session: Indigenous Agriculture & Food Systems Engagement
DESCRIPTION:The Ridge – MGBHLM Economic Development Battleford\, SK \nFriday\, May 1  •  10 AM – 4 PM\n\n\n\nOverview\n\n\n\n\nJoin us in North Battleford for a community-based conversation on Indigenous agriculture and food systems. \n\n\n\n\nAs part of the Indigenous Agriculture & Food Systems (IAFS) National Engagement\, Farm Credit Canada and Mokwateh are hosting local\, in-person Community Engagement Sessions to listen to community-defined priorities\, experiences\, and challenges related to agriculture\, food security\, and food systems. \nThese sessions are community-grounded and relational\, creating space for open\, respectful dialogue. They centre lived experience and regional perspectives\, bringing together Indigenous community members\, producers\, entrepreneurs\, and knowledge holders to share what is working\, what is not\, and what matters most in your community and region. \nInput from these sessions will help validate and deepen insights gathered through regional workshops and other engagement activities\, ensuring that community-level realities meaningfully inform the national understanding of Indigenous agriculture and food systems. \nWe invite you to join us for a meaningful\, facilitated discussion that puts community voices first and reflects local priorities\, challenges\, and aspirations. \nFor more information on the IAFS\, visit our website at https://iafs-saaa.ca/. \n\nReserve a spot
URL:https://sia.sk.ca/event-calendar/north-battleford-session-indigenous-agriculture-food-systems-engagement/
END:VEVENT
BEGIN:VEVENT
DTSTART;TZID=America/Regina:20260504T080000
DTEND;TZID=America/Regina:20260504T170000
DTSTAMP:20260423T151900
CREATED:20260327T223654Z
LAST-MODIFIED:20260327T223654Z
UID:240023-1777881600-1777914000@sia.sk.ca
SUMMARY:SaskPolytech Applied Research Student Showcase
DESCRIPTION:May 4 | Saskatoon SK \nDiscover the innovative applied research projects Saskatchewan Polytechnic students have developed with industry partners or as independent endeavours\, showcasing unique ideas that reflect their interests. Explore projects focused on real needs in Saskatchewan’s health care\, mining and energy\, agriculture\, human resources\, artificial intelligence\, cybersecurity and other industries. \n\n\nInnovation takes centre stage as SaskPolytech students unveil cutting-edge projects shaping the future. Discover tomorrow’s solutions today! \n\n\n\n\nJoin us at the Sask Polytech Applied Research Student Showcase 2026\, presented by Graham Group Ltd. \nThis showcase is more than an event; it’s a celebration of creativity\, knowledge and the boundless potential of Sask Polytech students. \nWhat to expect: \nThis is a come-and-go event. \nDiscover the innovative applied research projects our students have developed with industry partners or as independent endeavours\, showcasing unique ideas that reflect their interests. \nExplore projects focused on real needs in Saskatchewan’s health care\, mining and energy\, agriculture\, human resources\, artificial intelligence\, cybersecurity and other industries. \nConnect with students\, faculty\, and industry partners who are at the forefront of innovation. \nBe inspired by the dedication and innovation of our future leaders. \nStudents presenting are competing for 3rd\, 2nd and 1st place prizes in each of the Applied Research streams: \n\nHealth & Social\nTechnology\nEnvironment & Sustainability\n\nAnd everyone presenting projects will compete for the People’s Choice Award. You can support your favourite project! \nSpecial Guest Speaker from IBM\, Kyle Sava (more details to come) \nAgenda: \n11:00 a.m. Doors open \n11:15 a.m. Elder prayer followed by opening remarks by Dr. Larry Rosia \n11:20 a.m. – 1 p.m. Students present applied research projects at their tables. \n1 – 1:45 p.m. IBM Keynote\, Kyle Sava \n1:45 – 2:15 p.m. Students present applied research projects at their tables. \n2:45 p.m. Showcase prize presentation. \n3 p.m. Showcase wraps up \nPresenting Sponsor: Graham Group Ltd. \nFor more information and updates\, visit our website Applied Research Student Showcase (saskpolytech.ca) or contact us at Applied.Research@saskpolytech.ca. \n\n\nRegister Here
URL:https://sia.sk.ca/event-calendar/saskpolytech-applied-research-student-showcase/
END:VEVENT
BEGIN:VEVENT
DTSTART;TZID=America/Regina:20260505T000000
DTEND;TZID=America/Regina:20260507T000000
DTSTAMP:20260423T151900
CREATED:20251208T202226Z
LAST-MODIFIED:20251208T202226Z
UID:239468-1777939200-1778112000@sia.sk.ca
SUMMARY:14th Prairie Conservation and Endangered Species Conference
DESCRIPTION:The 14th Prairie Conservation and Endangered Species Conference will be a forum to discuss the latest issues\, information\, research and trends in the conservation of prairie landscapes\, species\, and species at risk. The conference is held every three years in a Canadian Prairie Province.\nClick to register.
URL:https://sia.sk.ca/event-calendar/14th-prairie-conservation-and-endangered-species-conference/
LOCATION:TCU Place\, 35 – 22 Street E.\, Saskatoon\, SK\, 35 - 22nd St. E.\, Saskatoon\, Saskatchewan\, Canada
END:VEVENT
BEGIN:VEVENT
DTSTART;TZID=America/Regina:20260507T100000
DTEND;TZID=America/Regina:20260507T123000
DTSTAMP:20260423T151900
CREATED:20260423T201412Z
LAST-MODIFIED:20260423T203030Z
UID:240127-1778148000-1778157000@sia.sk.ca
SUMMARY:University of Saskatchewan - NSERC DG & RTI Spring Info Session and Luncheon 2026
DESCRIPTION:Health Sciences BuildingSaskatoon\, SK \nThursday\, May 7  •  10 AM – 12:30 PM\n\n\n\n\nOverview\n\n\n\n\nJoin us to learn more about applying for NSERC Discovery and Research Tools & Instruments grants\, and tips for success! \n\n\n\n\nWe cordially invite you to attend the 2026 NSERC Discovery Grant and Research Tools & Instruments Grant Spring Info Session hosted by OVPR. This two-part event will cover a range of topics salient to DG and RTI applications. You are welcome to register for one or both DG and RTI parts (below). \nAfter part 2\, please join us across the road at the GSA Commons for a hot buffet lunch where we hope that discussion will continue and links forged. You will be asked to register for the luncheon along with one or both sessions. \nPart 1: Applying for a Research Tools & Instruments (RTI) grant \n10am – 10.50am \n· Timothy Kelly (Chemistry)\, a member of the National Review Committee for Chemistry (RTI)\, will share his experience and advice on applying for a RTI grant\, followed by the opportunity for Q&A. \nPart 2: Applying for a Discovery Grant (DG) (also relevant for RTI) \n11am – 12.30pm \n\nNotice of Intent\, with Q&A\nMerit Indicators Overview\nExplaining your Significant Contributions effectively\nCapturing your training of Highly Qualified Personnel thoughtfully (HQP)\nSpeaking to Equity\, Diversity & Inclusion (EDI) authentically\nUtilising the Internal Review service offered by OVPR\nGuidance from NSERC National Evaluation Group members on submitting a successful DG application\, with Q&A.\n\nPresenters \n\nJulia Boughner\, University NSERC Leader: College of Arts & Science\nDanielle Baron: College of Agriculture and Bioresources\nTera Ebach: Western College of Veterinary Medicine\nMichaela Lynds: Office of the Vice President Research\n\nPanelists \n\nHeather Wilson: DG EG 1501 Genes\, Cells and Molecules\nJon Farthing: DG EG 1502 Biological Systems and Functions\nJafar Soltan: 1511: Material and Chemical Engineering\nSeok-Bum Ko: 1507 Computer Science\n\nDate: 7th May 2026 \nLocation/Time: \nInfo Session: HLTH 1130 (Health Sciences Building\, E-Wing)\, 10am – 12.30pm \nLuncheon: GSA Commons\, 1337 College Drive\, 12.30pm – 2pm \nThis is an in-person only event\, but it will be recorded and made available on our website. \nRegistration deadline: 30th April 2026 \nReserve a spot
URL:https://sia.sk.ca/event-calendar/nserc-dg-rti-spring-info-session-and-luncheon-2026/
END:VEVENT
BEGIN:VEVENT
DTSTART;TZID=America/Regina:20260507T100000
DTEND;TZID=America/Regina:20260507T130000
DTSTAMP:20260423T151900
CREATED:20260423T202731Z
LAST-MODIFIED:20260423T202731Z
UID:240131-1778148000-1778158800@sia.sk.ca
SUMMARY:SaskOilseeds - Keep It Clean 2026 Product Advisory Webinar
DESCRIPTION:May 7\, 2026 10:00 am – 1:00 pm \n\n\nThe Keep it Clean Product Advisory informs Canadian growers of potential market risks associated with the use of certain crop protection products on some crops. \nJoin the experts to learn more about the updated 2026 Product Advisory: \n\nKrista Zuzak\, Director\, Crop Protection and Production\, Cereals Canada\nJeff English\, Vice President\, Public Affairs\, Pulse Canada\nCurtis Rempel\, Vice President\, Innovation\, Production and Supply\, Canola Council of Canada\n\nKeep it Clean recommends growers always consult their grain buyers before applying any crop protection products on the Product Advisory to keep their crops market ready throughout the growing season. \nCEU credits are available for CCAs. \nRegister Now
URL:https://sia.sk.ca/event-calendar/saskoilseeds-keep-it-clean-2026-product-advisory-webinar/
END:VEVENT
BEGIN:VEVENT
DTSTART;TZID=America/Regina:20260616T080000
DTEND;TZID=America/Regina:20260618T170000
DTSTAMP:20260423T151900
CREATED:20260423T210216Z
LAST-MODIFIED:20260423T210409Z
UID:240137-1781596800-1781802000@sia.sk.ca
SUMMARY:Canadian Centre for Rural and Agricultural Health (CCRAH) - SHARP 2026
DESCRIPTION:Dates \n\n\n\nJune 16–18\, 2026\n\n\n\nLocation \n\n\n\nSheraton Cavalier Hotel\, Saskatoon\, SK\n\n\n\nEarly-bird deadline \n\n\n\nApril 30\, 2026\nHotel booking The Sheraton Cavalier Saskatoon Hotel is our host venue.\nBlock rates include complimentary parking (register plates at check-in).\nBooking deadline – May 14\, 2026.\nGroup code: IN8 · 24-hr cancellation policy \nBook hotel group rate\n\n\n\n\nGETTING HERE  \n\n\n\nYXE Airport → Downtown Taxi: 15 min · $20–$25\nBus: #11 → Downtown Terminal → #8 → Spadina Cres\, 35 min\, $3 View Bus #11 Schedule\n\n\n\n\n\n\nRegistration Pricing\nEarly-bird rates available until April 30\, 2026\n\n\n\n\nMember\n$650 (USD)\n\nEarly-bird rate\n\n\n\nNon-Member\n$800 (USD)\n\nEarly-bird rate\n\n\n\nStudent\n$400 (USD)\n\nEarly-bird & regular rate\n\n\n\nRegistration includes\n\nLunch & refreshments (June 16–18)\nCocktail poster reception (June 16)\nBanquet (June 17)\n\nAdditional banquet tickets: $75 (USD)\nTours available at an additional cost: $35 (USD) \n\nREGISTER
URL:https://sia.sk.ca/event-calendar/canadian-centre-for-rural-and-agricultural-health-ccrah-sharp-2026/
END:VEVENT
BEGIN:VEVENT
DTSTART;TZID=America/Regina:20260921T080000
DTEND;TZID=America/Regina:20260923T170000
DTSTAMP:20260423T151900
CREATED:20260423T211151Z
LAST-MODIFIED:20260423T211151Z
UID:240144-1789977600-1790182800@sia.sk.ca
SUMMARY:Plant Forward Conference
DESCRIPTION:September 21–23\, 2026\n\nAbout the Event.\n\nThe premier global conference where leaders in food\, agriculture\, investment\, and research converge to shape the future of sustainable food systems.\n\nFor the first time ever\, Plant Forward takes on the Prairies. \nSet against the backdrop of Saskatoon\, Canada’s vast Prairie landscape\, this three-day event will showcase why Canada is the world’s natural choice for sustainable\, high-quality ingredients and the trusted partner for food innovation. \n\nPartner with Canada’s agriculture & food production powerhouse.\nExperience how Canada’s integrated supply chain\, crop diversity\, and advanced processing capabilities make it the world’s trusted source of sustainable ingredients.\nBuild partnerships that matter.\nConnect with executives\, investors and researchers shaping the next generation of plant-based innovation and trade.\nUnlock new growth potential.\nMeet your next business partner\, investor or collaborator in the heart of one of the world’s most dynamic agriculture and food economies.\nLead the conversation.\nJoin thought leaders shaping the evolution of plant-based food systems and innovation.\n\nExplore new partnerships\, discover cutting-edge technologies\, and experience the collaboration that’s shaping the future of sustainable food systems. \n\nREGISTRATION
URL:https://sia.sk.ca/event-calendar/plant-forward-conference/
END:VEVENT
BEGIN:VEVENT
DTSTART;TZID=America/Regina:20261115T153000
DTEND;TZID=America/Regina:20261118T160000
DTSTAMP:20260423T151900
CREATED:20251024T200850Z
LAST-MODIFIED:20251024T200850Z
UID:239385-1794756600-1795017600@sia.sk.ca
SUMMARY:13th Canadian Pulse Research Workshop
DESCRIPTION:Join us for this biennial gathering\, where pulse researchers and industry stakeholders from across Canada converge to propel the pulse sector forward. From sharing cutting-edge research to forging new collaborations\, CPRW is a cornerstone event dedicated to advancing pulse crop innovation. \nDate: November 15-18\, 2026 \nRegistration: Click here \nBuilding on the success of our last workshop in Windsor\, Ontario\, the 13th CPRW will delve into pivotal themes such as: \n\n\nBreeding and genomics of pulses \n\n\n\n\nSustainability in pulse-diversified cropping systems \n\n\n\n\nWeed and disease management in pulse crops \n\n\n\n\nProcessing and application of pulses \n\n\n\n\nHealth benefits of pulse consumption \n\n\n\n\nAI applications in pulse research and processing \n\n\n 
URL:https://sia.sk.ca/event-calendar/13th-canadian-pulse-research-workshop/
LOCATION:Sheraton Cavalier Saskatoon Hotel\, 612 Spadina Crescent Saskatoon\, SK\, Saskatoon\, Sk\, S7K 3G9\, Canada
END:VEVENT
END:VCALENDAR