BEGIN:VCALENDAR
VERSION:2.0
PRODID:-//Saskatchewan Institute of Agrologists - ECPv6.15.20//NONSGML v1.0//EN
CALSCALE:GREGORIAN
METHOD:PUBLISH
X-ORIGINAL-URL:https://sia.sk.ca
X-WR-CALDESC:Events for Saskatchewan Institute of Agrologists
REFRESH-INTERVAL;VALUE=DURATION:PT1H
X-Robots-Tag:noindex
X-PUBLISHED-TTL:PT1H
BEGIN:VTIMEZONE
TZID:America/Regina
BEGIN:STANDARD
TZOFFSETFROM:-0600
TZOFFSETTO:-0600
TZNAME:CST
DTSTART:20250101T000000
END:STANDARD
END:VTIMEZONE
BEGIN:VEVENT
DTSTART;TZID=America/Regina:20260507T100000
DTEND;TZID=America/Regina:20260507T130000
DTSTAMP:20260423T171444
CREATED:20260423T202731Z
LAST-MODIFIED:20260423T202731Z
UID:240131-1778148000-1778158800@sia.sk.ca
SUMMARY:SaskOilseeds - Keep It Clean 2026 Product Advisory Webinar
DESCRIPTION:May 7\, 2026 10:00 am – 1:00 pm \n\n\nThe Keep it Clean Product Advisory informs Canadian growers of potential market risks associated with the use of certain crop protection products on some crops. \nJoin the experts to learn more about the updated 2026 Product Advisory: \n\nKrista Zuzak\, Director\, Crop Protection and Production\, Cereals Canada\nJeff English\, Vice President\, Public Affairs\, Pulse Canada\nCurtis Rempel\, Vice President\, Innovation\, Production and Supply\, Canola Council of Canada\n\nKeep it Clean recommends growers always consult their grain buyers before applying any crop protection products on the Product Advisory to keep their crops market ready throughout the growing season. \nCEU credits are available for CCAs. \nRegister Now
URL:https://sia.sk.ca/event-calendar/saskoilseeds-keep-it-clean-2026-product-advisory-webinar/
END:VEVENT
BEGIN:VEVENT
DTSTART;TZID=America/Regina:20260512T140000
DTEND;TZID=America/Regina:20260512T170000
DTSTAMP:20260423T171444
CREATED:20260423T231053Z
LAST-MODIFIED:20260423T231053Z
UID:240155-1778594400-1778605200@sia.sk.ca
SUMMARY:Okanagan Specialty Fruits Inc. - Inside Innovation: Science of Biotechnology and Arctic Apples
DESCRIPTION:Free\nMultiple dates\nVisitors will learn about Okanagan Specialty Fruits (OSF) products\, a leader in biotechnology and developer of non-browning apples. \n\n\n\nVisitors will learn about biotechnology\, have hands-on experience extracting DNA from plant tissue\, and learn about Okanagan Specialty Fruits (OSF) products\, a leader in biotechnology and developer of non-browning apples. \n\n\n\nVisitors will be responsible for their own parking on the premises. Please follow guidelines set by Innovation Saskatchewan \nhttps://innovationsask.ca/tenant-resources/saskatoon/parking/#visitor-parking \n\n\n\n\nOSF staff will guide visitors onsite upon arrival. Please come to the lobby at the main entrance (south door) of the LFK building (410 Downey Road) and wait for your tour to begin. \nNo protective gear is required. Visitors are advised not to touch anything in the lab during the tour unless otherwise instructed. \n\n\n\n\nTours are free and open to all age groups interested in learning about biotechnology and biotech food products. \n\n\n\n\n\n\n\nREGISTER
URL:https://sia.sk.ca/event-calendar/okanagan-specialty-fruits-inc-inside-innovation-science-of-biotechnology-and-arctic-apples/
END:VEVENT
BEGIN:VEVENT
DTSTART;TZID=America/Regina:20260521T090000
DTEND;TZID=America/Regina:20260521T160000
DTSTAMP:20260423T171444
CREATED:20260423T225826Z
LAST-MODIFIED:20260423T225826Z
UID:240153-1779354000-1779379200@sia.sk.ca
SUMMARY:Indigenous Buffalo Engagement Workshop
DESCRIPTION:Wanuskewin Heritage Park Access Road  Saskatoon\, SK \n\nFree\nThu\, May 21 • 9 AM\n\n\n\n\n\nOverview\n\n\n\n\nAn Opportunity for Nation to Nation Knowledge Sharing and Networking \n\n\n\n\nThe Indigenous Buffalo Engagement Workshop invites Indigenous Nations with existing Buffalo herds as well as those interested in learning more about bringing Buffalo home to their Nation to network and share knowledge with each other. \nEvent Partners will be in attendance to provide information on Financing\, Funding and Services available to Indigenous Nations caring for Buffalo. \nParking is free for attendees\, give your licence plate number to the front desk when you arrive at Wanuskewin. \nLunch will be provided – Bison burger bar\, soup of the day\, ceasar salad and dainties for dessert. Please let us know if you have any dietary restrictions and we will be sure to accomodate you. \nWe ask that Nations try and limit their representatives in attendance to 2-3 individuals in order for us to accomodate as many Nations as are interested. \nEvent Partners: \nSaskatchewan Agriculture \nSaskatchewan Indigenous Enterprise Foundation (SIEF) \nSaskatchewan Aboriginal Land Technicians (SALT) \nSoil & Agro Ecosystems (SAGE) \nFarm Credit Canada (FCC) \nNational Circle for Indigenous Agriculture and Food (NCIAF) \nCanadian Bison Association (CBA) \nSaskatchewan Bison Association (SBA) \nInternational Buffalo Relations Institute (IBRI) \nREGISTER
URL:https://sia.sk.ca/event-calendar/indigenous-buffalo-engagement-workshop/
END:VEVENT
BEGIN:VEVENT
DTSTART;TZID=America/Regina:20260616T080000
DTEND;TZID=America/Regina:20260618T170000
DTSTAMP:20260423T171444
CREATED:20260423T210216Z
LAST-MODIFIED:20260423T210409Z
UID:240137-1781596800-1781802000@sia.sk.ca
SUMMARY:Canadian Centre for Rural and Agricultural Health (CCRAH) - SHARP 2026
DESCRIPTION:Dates \n\n\n\nJune 16–18\, 2026\n\n\n\nLocation \n\n\n\nSheraton Cavalier Hotel\, Saskatoon\, SK\n\n\n\nEarly-bird deadline \n\n\n\nApril 30\, 2026\nHotel booking The Sheraton Cavalier Saskatoon Hotel is our host venue.\nBlock rates include complimentary parking (register plates at check-in).\nBooking deadline – May 14\, 2026.\nGroup code: IN8 · 24-hr cancellation policy \nBook hotel group rate\n\n\n\n\nGETTING HERE  \n\n\n\nYXE Airport → Downtown Taxi: 15 min · $20–$25\nBus: #11 → Downtown Terminal → #8 → Spadina Cres\, 35 min\, $3 View Bus #11 Schedule\n\n\n\n\n\n\nRegistration Pricing\nEarly-bird rates available until April 30\, 2026\n\n\n\n\nMember\n$650 (USD)\n\nEarly-bird rate\n\n\n\nNon-Member\n$800 (USD)\n\nEarly-bird rate\n\n\n\nStudent\n$400 (USD)\n\nEarly-bird & regular rate\n\n\n\nRegistration includes\n\nLunch & refreshments (June 16–18)\nCocktail poster reception (June 16)\nBanquet (June 17)\n\nAdditional banquet tickets: $75 (USD)\nTours available at an additional cost: $35 (USD) \n\nREGISTER
URL:https://sia.sk.ca/event-calendar/canadian-centre-for-rural-and-agricultural-health-ccrah-sharp-2026/
END:VEVENT
BEGIN:VEVENT
DTSTART;TZID=America/Regina:20260721T080000
DTEND;TZID=America/Regina:20260723T170000
DTSTAMP:20260423T171444
CREATED:20260423T222356Z
LAST-MODIFIED:20260423T225010Z
UID:240149-1784620800-1784826000@sia.sk.ca
SUMMARY:Ag in Motion
DESCRIPTION:Ag in Motion \nFor more information
URL:https://sia.sk.ca/event-calendar/ag-in-motion/
END:VEVENT
BEGIN:VEVENT
DTSTART;TZID=America/Regina:20260921T080000
DTEND;TZID=America/Regina:20260923T170000
DTSTAMP:20260423T171444
CREATED:20260423T211151Z
LAST-MODIFIED:20260423T211151Z
UID:240144-1789977600-1790182800@sia.sk.ca
SUMMARY:Plant Forward Conference
DESCRIPTION:September 21–23\, 2026\n\nAbout the Event.\n\nThe premier global conference where leaders in food\, agriculture\, investment\, and research converge to shape the future of sustainable food systems.\n\nFor the first time ever\, Plant Forward takes on the Prairies. \nSet against the backdrop of Saskatoon\, Canada’s vast Prairie landscape\, this three-day event will showcase why Canada is the world’s natural choice for sustainable\, high-quality ingredients and the trusted partner for food innovation. \n\nPartner with Canada’s agriculture & food production powerhouse.\nExperience how Canada’s integrated supply chain\, crop diversity\, and advanced processing capabilities make it the world’s trusted source of sustainable ingredients.\nBuild partnerships that matter.\nConnect with executives\, investors and researchers shaping the next generation of plant-based innovation and trade.\nUnlock new growth potential.\nMeet your next business partner\, investor or collaborator in the heart of one of the world’s most dynamic agriculture and food economies.\nLead the conversation.\nJoin thought leaders shaping the evolution of plant-based food systems and innovation.\n\nExplore new partnerships\, discover cutting-edge technologies\, and experience the collaboration that’s shaping the future of sustainable food systems. \n\nREGISTRATION
URL:https://sia.sk.ca/event-calendar/plant-forward-conference/
END:VEVENT
BEGIN:VEVENT
DTSTART;TZID=America/Regina:20261115T153000
DTEND;TZID=America/Regina:20261118T160000
DTSTAMP:20260423T171444
CREATED:20251024T200850Z
LAST-MODIFIED:20251024T200850Z
UID:239385-1794756600-1795017600@sia.sk.ca
SUMMARY:13th Canadian Pulse Research Workshop
DESCRIPTION:Join us for this biennial gathering\, where pulse researchers and industry stakeholders from across Canada converge to propel the pulse sector forward. From sharing cutting-edge research to forging new collaborations\, CPRW is a cornerstone event dedicated to advancing pulse crop innovation. \nDate: November 15-18\, 2026 \nRegistration: Click here \nBuilding on the success of our last workshop in Windsor\, Ontario\, the 13th CPRW will delve into pivotal themes such as: \n\n\nBreeding and genomics of pulses \n\n\n\n\nSustainability in pulse-diversified cropping systems \n\n\n\n\nWeed and disease management in pulse crops \n\n\n\n\nProcessing and application of pulses \n\n\n\n\nHealth benefits of pulse consumption \n\n\n\n\nAI applications in pulse research and processing \n\n\n 
URL:https://sia.sk.ca/event-calendar/13th-canadian-pulse-research-workshop/
LOCATION:Sheraton Cavalier Saskatoon Hotel\, 612 Spadina Crescent Saskatoon\, SK\, Saskatoon\, Sk\, S7K 3G9\, Canada
END:VEVENT
END:VCALENDAR