BEGIN:VCALENDAR
VERSION:2.0
PRODID:-//Saskatchewan Institute of Agrologists - ECPv6.15.20//NONSGML v1.0//EN
CALSCALE:GREGORIAN
METHOD:PUBLISH
X-ORIGINAL-URL:https://sia.sk.ca
X-WR-CALDESC:Events for Saskatchewan Institute of Agrologists
REFRESH-INTERVAL;VALUE=DURATION:PT1H
X-Robots-Tag:noindex
X-PUBLISHED-TTL:PT1H
BEGIN:VTIMEZONE
TZID:America/Regina
BEGIN:STANDARD
TZOFFSETFROM:-0600
TZOFFSETTO:-0600
TZNAME:CST
DTSTART:20240101T000000
END:STANDARD
END:VTIMEZONE
BEGIN:VEVENT
DTSTART;TZID=America/Regina:20250501T120000
DTEND;TZID=America/Regina:20250501T130000
DTSTAMP:20260419T181148
CREATED:20250410T180925Z
LAST-MODIFIED:20250410T180925Z
UID:238915-1746100800-1746104400@sia.sk.ca
SUMMARY:SIA Saskatoon Branch Activity - Ardent Mills Tour
DESCRIPTION:Join the SIA Saskatoon Branch for a tour of Ardent Mills Saskatoon  \nDate: Thursday\, May 1\, 2025 \nTime: 12:00 pm (noon). \nCost: $10.00 per person \nCapacity: 12 licensed agrologists \nRegistration deadline: April 24\, 2025 \nLocation: 95 33 Street East\, Saskatoon\, SK \nDiscover the Heart of Flour Milling at Ardent Mills Saskatoon Step into the historic Ardent Mills Plant in Saskatoon\, a cornerstone of the community since 1927. Located at 95 33rd Street East\, this state-of-the-art facility is where tradition meets innovation. Learn how locally and regionally sourced wheat is transformed into premium flours and mixes that serve as the foundation for breads\, pastries\, and more across Canada. \nThis tour dives deep into the science and agricultural practices behind flour production. Explore the milling process through a technical lens\, examining the grain’s journey from farm to table. Gain insights into the plant’s sustainability initiatives and its critical role in supporting farmers and advancing agricultural research. This is your chance to engage with industry professionals and explore the intersection of agriculture and food production. \nPLEASE NOTE: Registration is limited to licensed agrologists due to the capacity numbers being smaller. \nThis activity counts as a branch activity for articling milestones and as CPD. \nRegistration: 
URL:https://sia.sk.ca/event-calendar/sia-saskatoon-branch-activity-ardent-mills-tour/
END:VEVENT
BEGIN:VEVENT
DTSTART;TZID=America/Regina:20250502T175234
DTEND;TZID=America/Regina:20250502T175234
DTSTAMP:20260419T181148
CREATED:20250502T170243Z
LAST-MODIFIED:20250502T175234Z
UID:239008-1746208354-1746208354@sia.sk.ca
SUMMARY:Farm Resilience Mentorship (FaRM) Program
DESCRIPTION:The Farm Resilience Mentorship (FaRM) Program is pleased to launch a Request for Proposals (RFP) for our new FaRM Field Trials Program. The focus of the program is on increasing regional support and knowledge transfer in low emissions\, high resilience Beneficial Management Practices (BMPs) by engaging agricultural professionals\, in partnership with farmers and ranchers\, to run field trials. The low emissions\, high resilience Beneficial Management Practices (BMPs) supported through this program are:\n– Improved Nitrogen Management\n– Cover Cropping\n– Rotational Grazing \nThis initiative seeks to specifically support:\n– Overcoming regional barriers to BMP implementation\, and\n– Troubleshooting BMP adoption through practical\, hands-on experience. \nUp to $20\,000 is available per project\, we expect to reward up to 18 projects across the country in late summer. The deadline for submission is June 15\, 2025. \n Please visit our website for eligibility criteria and more information.
URL:https://sia.sk.ca/event-calendar/farm-resilience-mentorship-farm-program/
END:VEVENT
BEGIN:VEVENT
DTSTART;TZID=America/Regina:20250506T080000
DTEND;TZID=America/Regina:20250507T170000
DTSTAMP:20260419T181148
CREATED:20250429T154231Z
LAST-MODIFIED:20250429T154231Z
UID:238983-1746518400-1746637200@sia.sk.ca
SUMMARY:2025 Agri-Value Form
DESCRIPTION:This event will bring together industry leaders\, experts\, and stakeholders to discuss the latest trends and innovations in the Agri-Value sector.\n\nDate: May 6 & 7\, 2025\nLocation: Sheraton Cavalier\, 612 Spadina Crescent East\, Saskatoon\, SK\nCost: $150.00 plus tax for conference day (May 6) & $50.00 plus tax for workshop day (May 7).\nAgenda: \n\nRegister here: \nRegistration deadline: May 2nd\, 2025
URL:https://sia.sk.ca/event-calendar/2025-agri-value-form/
END:VEVENT
BEGIN:VEVENT
DTSTART;TZID=America/Regina:20250506T140000
DTEND;TZID=America/Regina:20250506T160000
DTSTAMP:20260419T181148
CREATED:20250428T165509Z
LAST-MODIFIED:20250428T165509Z
UID:238967-1746540000-1746547200@sia.sk.ca
SUMMARY:SIA Yorkton Branch - Yorkton Waterworks Plant Tour
DESCRIPTION:Join the SIA Yorkton Branch for a tour of the Yorkton Waterworks Plant on Tuesday May 6\, 2025\, at 2:00 pm \nThe tour will be guided by Jevon Karakochuk\, Yorkton Waterworks Manager for the City of Yorkton. In the tour\, Jevon will cover how the well water is sourced\, cleaned and distributed throughout the city of Yorkton. He will also discuss the water aquifer recharge project and how the city partnered with local farmers to achieve high water quality and flowrate. \nDate: Tuesday\, May 6\, 2025 \nTime: 2:00 pm \nLocation: 9 Queen Street\, Yorkton SK \nRegister here \nRegistration deadline is May 5\, 2025 at 4:00 pm\nMaximum 15 participants \nPlease note: Steel toed boots are required. \nThis activity qualifies for a branch acitivity for articling milestones and as CPD.
URL:https://sia.sk.ca/event-calendar/sia-yorkton-branch-yorkton-waterworks-plant-tour/
LOCATION:City of Yorkton Waterworks Plant\, 9 Queen Street\, Yorkton\, Saskatchewan\, S3N 0W2\, Canada
END:VEVENT
BEGIN:VEVENT
DTSTART;TZID=America/Regina:20250508T110000
DTEND;TZID=America/Regina:20250508T133000
DTSTAMP:20260419T181148
CREATED:20250429T160403Z
LAST-MODIFIED:20250429T160403Z
UID:238985-1746702000-1746711000@sia.sk.ca
SUMMARY:QP Free Learning Session - Industrial Source Air Quality Environmental Protection Plans
DESCRIPTION:The Ministry of Environment is hosting a learning session for QP’s under Division E of the Saskatchewan Environmental Code. Are you looking to feel more confident in your qualified persons (QP) submissions to the Ministry of Environment? Join us for a free virtual learning session designed specifically\, for QPs like you. \nDate: May 8th\, 2025 \nTime: 11:00am – 1:30pm \nCost: Free \nRegistration:
URL:https://sia.sk.ca/event-calendar/qp-free-learning-session-industrial-source-air-quality-environmental-protection-plans/
END:VEVENT
BEGIN:VEVENT
DTSTART;TZID=America/Regina:20250515T153000
DTEND;TZID=America/Regina:20250515T170000
DTSTAMP:20260419T181148
CREATED:20250417T143016Z
LAST-MODIFIED:20250425T142909Z
UID:238948-1747323000-1747328400@sia.sk.ca
SUMMARY:SIA Saskatoon Branch Event: Tour of the Agbio Phytotron Facilities
DESCRIPTION:Join the SIA Saskatoon Branch on May 15\, 2025\, at 3:30 pm for a behind-the-scenes tour of the Controlled Environment Facility (Phytotron) at the USask College of Agriculture and Bioresources.\n\n\n\n\n\n\n\n\nManager of the facility\, Adam Harrison\, will provide an introduction of the facility. Following this introduction Alejandra Oviedo-Ludena and her colleagues will show us examples of their research\, including work on Pasmo in flax\, resistance to strip rust with speed breeding\, and determining resistance in cereals to Fusarium Head Blight. \nWhen: May 15\, 2025 \nTime: 3:30 pm to 5:00 pm \nCost: No Charge \nRegistration deadline is May 13\, 2025 \nCapacity is 15 \nIf you are coming to the event from and you have been exposed to any field crops\, we kindly ask that you bring a change of clothes or clean lab coat for biosecurity purposes. \nThis activity counts as a Branch Activity for Articling Milestones and as CPD. \n\n  \n\n\n\n\nRegistration: 
URL:https://sia.sk.ca/event-calendar/saskatoon-branch-event-tour-of-the-agbio-phytotron-facilities/
END:VEVENT
BEGIN:VEVENT
DTSTART;TZID=America/Regina:20250528T000000
DTEND;TZID=America/Regina:20250529T000000
DTSTAMP:20260419T181148
CREATED:20250505T170324Z
LAST-MODIFIED:20250505T170324Z
UID:239011-1748390400-1748476800@sia.sk.ca
SUMMARY:Back to the Field 2025: Wetlands & Waterfowl
DESCRIPTION:Join us for Back to the Field 2025 in Southeast Saskatchewan (near Stoughton) on May 28 and 29. \nThis year’s theme is Wetlands & Waterfowl with a special focus on Riparian Health Assessments. \nDay 1 – May 28 \n\nRegistration at 12:30pm (lunch not provided)\nPlant identification\nInvasive species\nSupper (provided) and SRM-PPC AGM\nEvening waterfowl presentation\n\nDay 2 – May 29 \n\nPlant identification\nLunch (provided)\nRiparian health assessments\nVegetation management\n\nWillow you be there? \nRegistration deadline is Monday\, May 19th @ 8pm. \nQuestions? Email srm.prairieparkland@gmail.com or call/text Keana Boere at 306-860-7640. \nNote: agenda subject to change; detailed agenda will be provided prior to the event. \nTickets: 
URL:https://sia.sk.ca/event-calendar/back-to-the-field-2025-wetlands-waterfowl/
LOCATION:Society for Rangeland Management
ORGANIZER;CN="Society for Rangeland Management":MAILTO:srm.prairieparkland@gmail.com
END:VEVENT
END:VCALENDAR