BEGIN:VCALENDAR
VERSION:2.0
PRODID:-//Saskatchewan Institute of Agrologists - ECPv6.15.20//NONSGML v1.0//EN
CALSCALE:GREGORIAN
METHOD:PUBLISH
X-WR-CALNAME:Saskatchewan Institute of Agrologists
X-ORIGINAL-URL:https://sia.sk.ca
X-WR-CALDESC:Events for Saskatchewan Institute of Agrologists
REFRESH-INTERVAL;VALUE=DURATION:PT1H
X-Robots-Tag:noindex
X-PUBLISHED-TTL:PT1H
BEGIN:VTIMEZONE
TZID:America/Regina
BEGIN:STANDARD
TZOFFSETFROM:-0600
TZOFFSETTO:-0600
TZNAME:CST
DTSTART:20240101T000000
END:STANDARD
END:VTIMEZONE
BEGIN:VEVENT
DTSTART;TZID=America/Regina:20250609T000000
DTEND;TZID=America/Regina:20250609T000000
DTSTAMP:20260419T162649
CREATED:20250609T203957Z
LAST-MODIFIED:20250609T203957Z
UID:239092-1749427200-1749427200@sia.sk.ca
SUMMARY:Field Day - July 9th\, 2025 at Scott
DESCRIPTION:Crop Opportunity 2025 – Field Day at Scott \nThank you to all of our in-person and virtual attendees\, speakers and sponsors for making Crop Opp a success!  We hope everyone enjoyed the presentations and we look forward to seeing you at the Field Day on July 9\, 2025 at Scott.
URL:https://sia.sk.ca/event-calendar/field-day-july-9th-2025-at-scott/
END:VEVENT
BEGIN:VEVENT
DTSTART;TZID=America/Regina:20250609T000000
DTEND;TZID=America/Regina:20250609T000000
DTSTAMP:20260419T162649
CREATED:20250609T210812Z
LAST-MODIFIED:20250609T210812Z
UID:239091-1749427200-1749427200@sia.sk.ca
SUMMARY:Scott Field Day
DESCRIPTION:Crop Opportunity 2025 \nThank you to all of our in-person and virtual attendees\, speakers and sponsors for making Crop Opp a success!  We hope everyone enjoyed the presentations and we look forward to seeing you at the Field Day on July 9\, 2025 at Scott.  
URL:https://sia.sk.ca/event-calendar/scott-field-day/
END:VEVENT
BEGIN:VEVENT
DTSTART;TZID=America/Regina:20250618T120000
DTEND;TZID=America/Regina:20250618T130000
DTSTAMP:20260419T162649
CREATED:20250528T162210Z
LAST-MODIFIED:20250528T162210Z
UID:239067-1750248000-1750251600@sia.sk.ca
SUMMARY:SIA NW Branch Webinar - Complications with Chloride Delineation
DESCRIPTION:Join the SIA NW Branch for this informational webinar! \nThe SIA NW Branch is proud host a webinar on Wednesday\, June 18\, 2025\, at 12:00 pm (noon)\, with guest speaker Jonathan Donahue\, P.Geo\, Senior Environmental Scientist with Equilibrium Environmental Inc. Jonathan will speak on “Complications with Chloride Delineation and the Influence of Non-Oil and Gas Sources“. \nWhere: Online \nTime: 12:00 pm \nCost: No Charge \nRegistration Deadline: June 18\, 2025\, at 12:00 pm \nAbout the presentation: This presentation will discuss some evolving techniques used in recent years to assist in the delineation and identification of chloride impacts in the potential presence of a range of non-oil and gas sources\, including cases where naturally occurring chloride appears to be elevated. Some of the specific techniques to be discussed include chloride isotopes\, bromide analysis\, examination of different ion ratios\, and the targeted use of a range of other lines-of-evidence. By better understanding the potential for these non-oil-and-gas or natural chloride sources it allows for the more effective use of investigation and remediation efforts to return a site to equivalent land capability. It also ensures that chloride impacts are not being over-remediated\, thereby keeping unnecessary soils out of landfills and ensuring all environmental receptors are protected and land can be returned to productive use in a sustainable manner. \nThis activity counts as a Branch Activity for Articling Milestones and CPD. \nRegister: 
URL:https://sia.sk.ca/event-calendar/sia-nw-branch-webinar-complications-with-chloride-delineation-2/
END:VEVENT
BEGIN:VEVENT
DTSTART;TZID=America/Regina:20250624T083000
DTEND;TZID=America/Regina:20250624T150000
DTSTAMP:20260419T162649
CREATED:20250528T161713Z
LAST-MODIFIED:20250528T161713Z
UID:239063-1750753800-1750777200@sia.sk.ca
SUMMARY:SIA - Orientation to Agrology Workshop
DESCRIPTION:Register for the 1st Articling Milestone today\, the Orientation to Agrology Workshop \nPLEASE NOTE: Only licensed agrologists qualify to participate in the workshop. Applications sent in do not count as licensed\, please wait to register! \nDate: Tuesday\, June 24\, 2025 \nTime: 8:30 am to 3:00 pm \nLocation: Online Webinar \nCost: $208.95 (includes GST) Note: Price does not include processing fees. \nRegistration Deadline: Sunday\, June 22\, 2025 \nMaximum – 10 participants \nWebinar Requirements – MUST CONNECT WITH AUDIO & VIDEO \nNOTE: The meeting link\, ID and password will be sent to you via email. \nRefund Policy: Refunds up to 7 days before event \nRegister; 
URL:https://sia.sk.ca/event-calendar/sia-orientation-to-agrology-workshop-8/
END:VEVENT
BEGIN:VEVENT
DTSTART;TZID=America/Regina:20250624T110000
DTEND;TZID=America/Regina:20250624T130000
DTSTAMP:20260419T162649
CREATED:20250616T173631Z
LAST-MODIFIED:20250616T174057Z
UID:239140-1750762800-1750770000@sia.sk.ca
SUMMARY:Webinar - Maximize Crop Performance with Plant Tissue Testing
DESCRIPTION:Plant Tissue Testing\nFrom Data to Decisions: Making the Most of Tissue Testing \n\nJoin Greg Patterson\, Founder & CEO of A&L Canada Laboratories\, for an exclusive webinar exploring how plant tissue analysis can elevate your crop management strategy. \n\n\nWhether you’re aiming to fine-tune your fertility program or respond quickly to in-season stress\, this session will give you practical tools to act with precision and confidence. \n\n\nIn the webinar\, you’ll learn how to: \n\n\nDiagnose nutrient deficiencies early\nInterpret lab results with clarity\nMake informed\, data-driven decisions in the field\n\nDate: Tuesday June 24\, 2025\nTime: 11:00am – 1:00pm CST \nRegister:
URL:https://sia.sk.ca/event-calendar/webinar-maximize-crop-performance-with-plant-tissue-testing/
END:VEVENT
BEGIN:VEVENT
DTSTART;TZID=America/Regina:20250625T074500
DTEND;TZID=America/Regina:20250625T143000
DTSTAMP:20260419T162649
CREATED:20250609T202742Z
LAST-MODIFIED:20250609T202742Z
UID:239088-1750837500-1750861800@sia.sk.ca
SUMMARY:Sask Crop Commissions Field Tour 2025
DESCRIPTION:SaskBarley\, Sask Oilseeds\, Sask Wheat\, and Saskatchewan Pulse Growers have partnered with Western Applied Research Corporation (WARC) to host farmers and agronomists for a tour of on-farm research trials in the Davidson area. Lunch will be provided\, as well as optional bus transportation. There are limited spots for this event! Make sure to register for what is shaping up to be a great day of learning and networking in the field. \nItinerary\n\n\n\n7:45 A.M.\nBus picks up producers in Saskatoon at Saskatchewan Pulse Growers office in Stonebridge\, 415 Wellman Cres\, Saskatoon\n\n\n8:00 A.M.\nBus leaves Saskatoon to Davidson\n\n\n9:00 A.M.\nRegistration at Davidson Town Hall\n\n\n9:30 A.M.\nLeave Davidson\, start tour\n\n\n10:00 A.M.\nArrive at chickpea trial\n\n\n10:25 A.M.\nLeave chickpea trial\n\n\n10:40 A.M.\nArrive at wheat trial\n\n\n11:05 A.M.\nLeave wheat trial\n\n\n11:20 A.M.\nArrive at barley trial\n\n\n11:45 A.M.\nLeave barley trial\n\n\n11:55 A.M.\nArrive at canola trial\n\n\n12:20 P.M.\nLeave canola trial\n\n\n12:30 P.M.\nArrive back at Davidson Town Hall\n\n\n12:35 P.M.\nLUNCH\n\n\n1:30 P.M.\nEnd of tour\, bus heads back to Saskatoon\n\n\n2:30 P.M.\nBus arrives in Saskatoon\n\n\n\nAdditional Information\nBus will be picking up producers and any other attendees who need the transportation in Saskatoon at the Saskatchewan Pulse Growers office in Stonebridge. The address is 415 Wellman Cres\, Saskatoon\, SK. The bus will be dropping everyone off at the same location at the end of the day. \nFor anyone not needing transportation\, we will all be meeting at the Davidson Town Hall\, 206 Washington Ave\, Davidson\, SK at 9 a.m. \nPlan B In case of Rain\nIn the event of rain\, the tour will be hosted at the Davidson Town Hall where producers can sit down with experts and have round table conversations while asking any questions they may have about on-farm trials.
URL:https://sia.sk.ca/event-calendar/sask-crop-commissions-field-tour-2025/
END:VEVENT
END:VCALENDAR