BEGIN:VCALENDAR
VERSION:2.0
PRODID:-//Saskatchewan Institute of Agrologists - ECPv6.15.20//NONSGML v1.0//EN
CALSCALE:GREGORIAN
METHOD:PUBLISH
X-WR-CALNAME:Saskatchewan Institute of Agrologists
X-ORIGINAL-URL:https://sia.sk.ca
X-WR-CALDESC:Events for Saskatchewan Institute of Agrologists
REFRESH-INTERVAL;VALUE=DURATION:PT1H
X-Robots-Tag:noindex
X-PUBLISHED-TTL:PT1H
BEGIN:VTIMEZONE
TZID:America/Regina
BEGIN:STANDARD
TZOFFSETFROM:-0600
TZOFFSETTO:-0600
TZNAME:CST
DTSTART:20240101T000000
END:STANDARD
END:VTIMEZONE
BEGIN:VEVENT
DTSTART;TZID=America/Regina:20250806T080000
DTEND;TZID=America/Regina:20250806T190000
DTSTAMP:20260419T145552
CREATED:20250702T195206Z
LAST-MODIFIED:20250702T195946Z
UID:239167-1754467200-1754506800@sia.sk.ca
SUMMARY:2025 Saskatchewan Pasture Tour
DESCRIPTION:22nd Annual Sask Pasture Tour \nDate: Wednesday\, August 6th\, 2025 \nTime: 8:00 am – 5:30 pm (Supper to follow) \nCost: $80.00/person\, $25.00/person (producer rate) \nLocation: Meet at:\n1) Innovation Plex in Swift Current\, 2001 Chaplin St E\n7:30am meet\, bus departs at 8am sharp\n2) Val Marie Hall\n    9:00am – bus departs at 9:30am sharp\n \nTo Register: \nClick the link below to register today.\nRegister Here:  \n– www.saskforage.ca\n– office@saskforage.ca\n– 306.552.7087 \nDeadline for registration is July 30th\, 2025 \nNew this year: Sask Pasture Tour fee is reduced to $25 for all producers!
URL:https://sia.sk.ca/event-calendar/2025-saskatchewan-pasture-tour/
END:VEVENT
BEGIN:VEVENT
DTSTART;TZID=America/Regina:20250807T150000
DTEND;TZID=America/Regina:20250807T163000
DTSTAMP:20260419T145552
CREATED:20250717T162303Z
LAST-MODIFIED:20250729T173929Z
UID:239188-1754578800-1754584200@sia.sk.ca
SUMMARY:SIA Regina Branch Bennett Farm Tour
DESCRIPTION:Join the SIA Regina Branch for a tour of the Bennett Farm on Thursday\, August 7\, 2025\, at 3:00 pm. \nThe Bennett Farm is a research and demonstration farm that was established in 2016 east of Regina to provide Richardson International the opportunity to showcase their agricultural expertise to customers\, employees and partners in the community. \nLocation: SE 31 16 18 W2\, Five kilometers east of Regina on Hwy 33 \nCost: No Charge \nDeadline to register: August 6\, 2025 \nAttendance: Maximum 30 people \nThe activity counts as both a branch activity for articling milestones and as CPD. \nRegister: 
URL:https://sia.sk.ca/event-calendar/sia-regina-branch-bennett-farm-tour/
END:VEVENT
BEGIN:VEVENT
DTSTART;TZID=America/Regina:20250814T083000
DTEND;TZID=America/Regina:20250814T153000
DTSTAMP:20260419T145552
CREATED:20250718T162819Z
LAST-MODIFIED:20250814T125415Z
UID:239190-1755160200-1755185400@sia.sk.ca
SUMMARY:SIA Orientation to Agrology Workshop
DESCRIPTION:PLEASE NOTE: Only licensed agrologists qualify to participate in the workshop. Applications sent in do not count as licensed\, please wait to register! \nDate: Thursday\, August 14\, 2025 \nTime: 8:30 am to 3:00 pm \nLocation: Online Webinar \nCost: $208.95 (includes GST) Note: Price does not include processing fees. \nRegistration Deadline: Tuesday\, August 12\, 2025 \nMaximum – 10 participants \nWebinar Requirements – MUST CONNECT WITH AUDIO & VIDEO \nNOTE: The meeting link\, ID and password will be sent to you via email the day before the workshop \nRegister: 
URL:https://sia.sk.ca/event-calendar/sia-orientation-to-agrology-workshop-10/
END:VEVENT
END:VCALENDAR